BEGIN:VCALENDAR
VERSION:2.0
PRODID:-//ChamberMaster//Event Calendar 2.0//EN
METHOD:PUBLISH
X-PUBLISHED-TTL:P3D
REFRESH-INTERVAL:P3D
CALSCALE:GREGORIAN
BEGIN:VEVENT
DTSTART:20210116T190000Z
DTEND:20210116T220000Z
X-MICROSOFT-CDO-ALLDAYEVENT:FALSE
SUMMARY:Bald Eagle Watching Days Jan. 16\, 23\, Feb. 6 & 20\, 2021
DESCRIPTION:January 16\, 2021 | 1pm-4pm (CST)\n\nWelcome to Bald Eagle Watching Days   Virtual for 2021\n\nThough eagles might concentrate in large groups in winter for the survival of their species\, with the current pandemic\, humans should not. Ferry Bluff Eagle Council President Jeb Barzen welcomes you to Bald Eagle Watching Days   Virtual for 2021. He will share the exciting schedule of events we have in store for you over four Saturdays in January and February 2021. Jeb will also introduce a brand new "Self Guided Eagle Watching Tour." It's an App that can be used with your smartphone\, tablet\, or computer to locate where Bald Eagles are roosting along the Lower Wisconsin Riverway. It is a fun and socially distanced way to get out to see eagles this winter.\n\n\nJanuary 16\, 2021 | 1:15 pm (CST)\n\nRehabilitated Bald Eagle Release with LIVE Q & A session\n\nMarge Gibson\, Founder and Executive Director of Raptor Education Group\, Inc (REGI)\, will release a rehabilitated bald eagle back into the wild (pre-recorded). Marge is a nationally renowned eagle rehabilitator and educator and will tell the rehab story of the released raptor and share information about the work she does at REGI. This will be followed by a live opportunity for the virtual attendees to ask questions of Marge about Bald Eagles\, wild animal rehabilitation\, the work of REGI\, and other related topics.\n\n\nJanuary 16\, 2021 | 2:45 pm (CST)\n\nEagles in Native American Culture   Pre-recorded\n\nArt Shegonee is a Native American ambassador to Wisconsin Indian Summer and Call for Peace Drum & Dance Company. He is a member of the Menominee and Potawatomi tribes in Wisconsin\, and his name is Canasa (Little Golden Eagle). During his presentation for Bald Eagle Watching Days at the Tripp Heritage Museum\, Shegonee will share stories\, cultural items\, and interesting information about eagles and Native American Culture.\n\n\nJanuary 16\, 2021 | 3:15 pm (CST)\n\nAnimals that Live with Eagles   LIVE\n\nDavid Stokes\, naturalist\, humorist\, and educator\, will share up-close views of live animals\, stories\, songs\, animal artifacts\, science\, and humor about animals that share the ecosystem with Bald Eagles. You will laugh and learn with David!\n\nFind the Live Stream here: rtmp://a.rtmp.youtube.com/live2
X-ALT-DESC;FMTTYPE=text/html:<p style="padding: 0px\; margin: 0px 0px 10px\; color: rgb(0\, 0\, 0)\; font-family: &quot\;PT Sans Narrow&quot\;\, Helvetica\, Arial\, Verdana\, sans-serif\; font-size: 18px\;"><span style="padding: 0px\; margin: 0px\; font-weight: 700\;">January 16\, 2021 | 1pm-4pm (CST)</span></p>\n\n<p style="padding: 0px\; margin: 0px 0px 10px\; color: rgb(0\, 0\, 0)\; font-family: &quot\;PT Sans Narrow&quot\;\, Helvetica\, Arial\, Verdana\, sans-serif\; font-size: 18px\;"><span style="padding: 0px\; margin: 0px\; font-weight: 700\;">Welcome to Bald Eagle Watching Days &ndash\; Virtual for 2021</span></p>\n\n<p style="padding: 0px\; margin: 0px 0px 10px\; color: rgb(0\, 0\, 0)\; font-family: &quot\;PT Sans Narrow&quot\;\, Helvetica\, Arial\, Verdana\, sans-serif\; font-size: 18px\;">Though eagles might concentrate in large groups in winter for the survival of their species\, with the current pandemic\, humans should not. Ferry Bluff Eagle Council President Jeb Barzen welcomes you to Bald Eagle Watching Days &ndash\; Virtual for 2021. He will share the exciting schedule of events we have in store for you over four Saturdays in January and February 2021. Jeb will also introduce a brand new &ldquo\;Self Guided Eagle Watching Tour.&rdquo\; It&rsquo\;s an App that can be used with your smartphone\, tablet\, or computer to locate where Bald Eagles are roosting along the Lower Wisconsin Riverway. It is a fun and socially distanced way to get out to see eagles this winter.</p>\n\n<hr class="wp-block-separator is-style-wide" style="padding: 0px\; margin: 0px auto\; border-top: none\; border-right-width: initial\; border-right-style: none\; border-left-width: initial\; border-left-style: none\; border-bottom: 1px solid rgba(204\, 204\, 204\, 0.5)\; opacity: 0.4\; color: rgb(0\, 0\, 0)\; font-family: &quot\;PT Sans Narrow&quot\;\, Helvetica\, Arial\, Verdana\, sans-serif\; font-size: 18px\;" />\n<p style="padding: 0px\; margin: 0px 0px 10px\; color: rgb(0\, 0\, 0)\; font-family: &quot\;PT Sans Narrow&quot\;\, Helvetica\, Arial\, Verdana\, sans-serif\; font-size: 18px\;"><span style="padding: 0px\; margin: 0px\; font-weight: 700\;"><span class="has-inline-color has-accent-color" style="padding: 0px\; margin: 0px\; color: rgb(114\, 163\, 147)\;">January 16\, 2021 | 1:15 pm (CST)</span></span></p>\n\n<p style="padding: 0px\; margin: 0px 0px 10px\; color: rgb(0\, 0\, 0)\; font-family: &quot\;PT Sans Narrow&quot\;\, Helvetica\, Arial\, Verdana\, sans-serif\; font-size: 18px\;"><span style="padding: 0px\; margin: 0px\; font-weight: 700\;">Rehabilitated Bald Eagle Release with LIVE Q &amp\; A session</span></p>\n\n<p style="padding: 0px\; margin: 0px 0px 10px\; color: rgb(0\, 0\, 0)\; font-family: &quot\;PT Sans Narrow&quot\;\, Helvetica\, Arial\, Verdana\, sans-serif\; font-size: 18px\;">Marge Gibson\, Founder and Executive Director of Raptor Education Group\, Inc (REGI)\, will release a rehabilitated bald eagle back into the wild (pre-recorded). Marge is a nationally renowned eagle rehabilitator and educator and will tell the rehab story of the released raptor and share information about the work she does at REGI. This will be followed by a live opportunity for the virtual attendees to ask questions of Marge about Bald Eagles\, wild animal rehabilitation\, the work of REGI\, and other related topics.</p>\n\n<hr class="wp-block-separator is-style-wide" style="padding: 0px\; margin: 0px auto\; border-top: none\; border-right-width: initial\; border-right-style: none\; border-left-width: initial\; border-left-style: none\; border-bottom: 1px solid rgba(204\, 204\, 204\, 0.5)\; opacity: 0.4\; color: rgb(0\, 0\, 0)\; font-family: &quot\;PT Sans Narrow&quot\;\, Helvetica\, Arial\, Verdana\, sans-serif\; font-size: 18px\;" />\n<p style="padding: 0px\; margin: 0px 0px 10px\; color: rgb(0\, 0\, 0)\; font-family: &quot\;PT Sans Narrow&quot\;\, Helvetica\, Arial\, Verdana\, sans-serif\; font-size: 18px\;"><span style="padding: 0px\; margin: 0px\; font-weight: 700\;"><span class="has-inline-color has-accent-color" style="padding: 0px\; margin: 0px\; color: rgb(114\, 163\, 147)\;">January 16\, 2021 | 2:45 pm (CST)</span></span></p>\n\n<p style="padding: 0px\; margin: 0px 0px 10px\; color: rgb(0\, 0\, 0)\; font-family: &quot\;PT Sans Narrow&quot\;\, Helvetica\, Arial\, Verdana\, sans-serif\; font-size: 18px\;"><span style="padding: 0px\; margin: 0px\; font-weight: 700\;">Eagles in Native American Culture &ndash\; Pre-recorded</span></p>\n\n<p style="padding: 0px\; margin: 0px 0px 10px\; color: rgb(0\, 0\, 0)\; font-family: &quot\;PT Sans Narrow&quot\;\, Helvetica\, Arial\, Verdana\, sans-serif\; font-size: 18px\;">Art Shegonee is a Native American ambassador to Wisconsin Indian Summer and Call for Peace Drum &amp\; Dance Company. He is a member of the Menominee and Potawatomi tribes in Wisconsin\, and his name is Canasa (Little Golden Eagle). During his presentation for Bald Eagle Watching Days at the Tripp Heritage Museum\, Shegonee will share stories\, cultural items\, and interesting information about eagles and Native American Culture.</p>\n\n<hr class="wp-block-separator is-style-wide" style="padding: 0px\; margin: 0px auto\; border-top: none\; border-right-width: initial\; border-right-style: none\; border-left-width: initial\; border-left-style: none\; border-bottom: 1px solid rgba(204\, 204\, 204\, 0.5)\; opacity: 0.4\; color: rgb(0\, 0\, 0)\; font-family: &quot\;PT Sans Narrow&quot\;\, Helvetica\, Arial\, Verdana\, sans-serif\; font-size: 18px\;" />\n<p style="padding: 0px\; margin: 0px 0px 10px\; color: rgb(0\, 0\, 0)\; font-family: &quot\;PT Sans Narrow&quot\;\, Helvetica\, Arial\, Verdana\, sans-serif\; font-size: 18px\;"><span style="padding: 0px\; margin: 0px\; font-weight: 700\;"><span class="has-inline-color has-accent-color" style="padding: 0px\; margin: 0px\; color: rgb(114\, 163\, 147)\;">January 16\, 2021 | 3:15 pm (CST)</span></span></p>\n\n<p style="padding: 0px\; margin: 0px 0px 10px\; color: rgb(0\, 0\, 0)\; font-family: &quot\;PT Sans Narrow&quot\;\, Helvetica\, Arial\, Verdana\, sans-serif\; font-size: 18px\;"><span style="padding: 0px\; margin: 0px\; font-weight: 700\;">Animals that Live with Eagles &ndash\; LIVE</span></p>\n\n<p style="padding: 0px\; margin: 0px 0px 10px\; color: rgb(0\, 0\, 0)\; font-family: &quot\;PT Sans Narrow&quot\;\, Helvetica\, Arial\, Verdana\, sans-serif\; font-size: 18px\;">David Stokes\, naturalist\, humorist\, and educator\, will share up-close views of live animals\, stories\, songs\, animal artifacts\, science\, and humor about animals that share the ecosystem with Bald Eagles. You will laugh and learn with David!</p>\n\n<p style="padding: 0px\; margin: 0px\; color: rgb(0\, 0\, 0)\; font-family: &quot\;PT Sans Narrow&quot\;\, Helvetica\, Arial\, Verdana\, sans-serif\; font-size: 18px\;">Find the Live Stream here:&nbsp\;<a href="https://a.rtmp.youtube.com/live2" rel="noreferrer noopener" style="padding: 0px\; margin: 0px\; color: rgb(114\, 163\, 147)\;" target="_blank">rtmp://a.rtmp.youtube.com/live2</a></p>\n
LOCATION:
UID:e.1184.26164
SEQUENCE:3
DTSTAMP:20260422T104324Z
URL:http://members.saukprairie.com/events/details/bald-eagle-watching-days-jan-16-23-feb-6-20-2021-26164
END:VEVENT

END:VCALENDAR
