BEGIN:VCALENDAR
VERSION:2.0
PRODID:-//ChamberMaster//Event Calendar 2.0//EN
METHOD:PUBLISH
X-PUBLISHED-TTL:P3D
REFRESH-INTERVAL:P3D
CALSCALE:GREGORIAN
BEGIN:VEVENT
DTSTART:20210206T190000Z
DTEND:20210206T220000Z
X-MICROSOFT-CDO-ALLDAYEVENT:FALSE
SUMMARY:Bald Eagle Watching Days Jan. 16\, 23\, Feb. 6 & 20\, 2021
DESCRIPTION:February 6\, 2021 | 1pm (CST)\n\nWe   Snow Birds! Bald Eagle Behavior and Habitat   LIVE\n\nBald Eagles return each winter to an area stretching from the Alliant Energy Hydroelectric Dam just north of Prairie du Sac\, WI to the eagle roosts near Lone Rock\, WI\, and beyond. Gathering in large groups is not normal behavior for bald eagles during the warm months\, but is necessary for the survival of our majestic raptors when the smaller lakes and waterways freeze up elsewhere. Jeb Barzen\, wildlife biologist and President of Ferry Bluff Eagle Council\, will provide an update on the current convocations of eagles and share insights on why Bald Eagles choose the Lower Wisconsin Riverway for their winter home.\n\n\nFebruary 6\, 2021 | 2pm (CST)\n\nEagles in Native American Culture   ENCORE PRESENTATION\n\nArt Shegonee is a Native American ambassador to Wisconsin Indian Summer and Call for Peace Drum & Dance Company. He is a member of the Menominee and Potawatomi tribes in Wisconsin\, and his name is Canasa (Little Golden Eagle). During his presentation for Bald Eagle Watching Days at the Tripp Heritage Museum\, Shegonee will share stories\, cultural items\, and interesting information about eagles and Native American Culture.\n\n\nFebruary 6\, 2021 | 2:30pm (CST)\n\nRehabilitated Bald Eagle Release with Q & A session   ENCORE PRESENTATION\n\nMarge Gibson\, Founder and Executive Director of Raptor Education Group\, Inc (REGI)\, will release a rehabilitated bald eagle back into the wild. Marge is a nationally renowned eagle rehabilitator and educator and will tell the rehab story of the released raptor and share information about the work she does at REGI. This will be followed by a previously recorded Q & A session with Marge answering questions about Bald Eagles\, wild animal rehabilitation\, the work of REGI\, and other related topics.
X-ALT-DESC;FMTTYPE=text/html:<p style="padding: 0px\; margin: 0px 0px 10px\; color: rgb(0\, 0\, 0)\; font-family: &quot\;PT Sans Narrow&quot\;\, Helvetica\, Arial\, Verdana\, sans-serif\; font-size: 18px\;"><span style="padding: 0px\; margin: 0px\; font-weight: 700\;"><span class="has-inline-color has-accent-color" style="padding: 0px\; margin: 0px\; color: rgb(114\, 163\, 147)\;">February 6\, 2021 | 1pm (CST)</span></span></p>\n\n<p style="padding: 0px\; margin: 0px 0px 10px\; color: rgb(0\, 0\, 0)\; font-family: &quot\;PT Sans Narrow&quot\;\, Helvetica\, Arial\, Verdana\, sans-serif\; font-size: 18px\;"><span style="padding: 0px\; margin: 0px\; font-weight: 700\;">We &hearts\; Snow Birds! Bald Eagle Behavior and Habitat &ndash\; LIVE</span></p>\n\n<p style="padding: 0px\; margin: 0px 0px 10px\; color: rgb(0\, 0\, 0)\; font-family: &quot\;PT Sans Narrow&quot\;\, Helvetica\, Arial\, Verdana\, sans-serif\; font-size: 18px\;">Bald Eagles return each winter to an area stretching from the Alliant Energy Hydroelectric Dam just north of Prairie du Sac\, WI to the eagle roosts near Lone Rock\, WI\, and beyond. Gathering in large groups is not normal behavior for bald eagles during the warm months\, but is necessary for the survival of our majestic raptors when the smaller lakes and waterways freeze up elsewhere. Jeb Barzen\, wildlife biologist and President of Ferry Bluff Eagle Council\, will provide an update on the current convocations of eagles and share insights on why Bald Eagles choose the Lower Wisconsin Riverway for their winter home.</p>\n\n<hr class="wp-block-separator is-style-wide" style="padding: 0px\; margin: 0px auto\; border-top: none\; border-right-width: initial\; border-right-style: none\; border-left-width: initial\; border-left-style: none\; border-bottom: 1px solid rgba(204\, 204\, 204\, 0.5)\; opacity: 0.4\; color: rgb(0\, 0\, 0)\; font-family: &quot\;PT Sans Narrow&quot\;\, Helvetica\, Arial\, Verdana\, sans-serif\; font-size: 18px\;" />\n<p style="padding: 0px\; margin: 0px 0px 10px\; color: rgb(0\, 0\, 0)\; font-family: &quot\;PT Sans Narrow&quot\;\, Helvetica\, Arial\, Verdana\, sans-serif\; font-size: 18px\;"><span style="padding: 0px\; margin: 0px\; font-weight: 700\;"><span class="has-inline-color has-accent-color" style="padding: 0px\; margin: 0px\; color: rgb(114\, 163\, 147)\;">February 6\, 2021 | 2pm (CST)</span></span></p>\n\n<p style="padding: 0px\; margin: 0px 0px 10px\; color: rgb(0\, 0\, 0)\; font-family: &quot\;PT Sans Narrow&quot\;\, Helvetica\, Arial\, Verdana\, sans-serif\; font-size: 18px\;"><span style="padding: 0px\; margin: 0px\; font-weight: 700\;">Eagles in Native American Culture &ndash\; ENCORE PRESENTATION</span></p>\n\n<p style="padding: 0px\; margin: 0px 0px 10px\; color: rgb(0\, 0\, 0)\; font-family: &quot\;PT Sans Narrow&quot\;\, Helvetica\, Arial\, Verdana\, sans-serif\; font-size: 18px\;">Art Shegonee is a Native American ambassador to Wisconsin Indian Summer and Call for Peace Drum &amp\; Dance Company. He is a member of the Menominee and Potawatomi tribes in Wisconsin\, and his name is Canasa (Little Golden Eagle). During his presentation for Bald Eagle Watching Days at the Tripp Heritage Museum\, Shegonee will share stories\, cultural items\, and interesting information about eagles and Native American Culture.</p>\n\n<hr class="wp-block-separator is-style-wide" style="padding: 0px\; margin: 0px auto\; border-top: none\; border-right-width: initial\; border-right-style: none\; border-left-width: initial\; border-left-style: none\; border-bottom: 1px solid rgba(204\, 204\, 204\, 0.5)\; opacity: 0.4\; color: rgb(0\, 0\, 0)\; font-family: &quot\;PT Sans Narrow&quot\;\, Helvetica\, Arial\, Verdana\, sans-serif\; font-size: 18px\;" />\n<p style="padding: 0px\; margin: 0px 0px 10px\; color: rgb(0\, 0\, 0)\; font-family: &quot\;PT Sans Narrow&quot\;\, Helvetica\, Arial\, Verdana\, sans-serif\; font-size: 18px\;"><span style="padding: 0px\; margin: 0px\; font-weight: 700\;"><span class="has-inline-color has-accent-color" style="padding: 0px\; margin: 0px\; color: rgb(114\, 163\, 147)\;">February 6\, 2021 | 2:30pm (CST)</span></span></p>\n\n<p style="padding: 0px\; margin: 0px 0px 10px\; color: rgb(0\, 0\, 0)\; font-family: &quot\;PT Sans Narrow&quot\;\, Helvetica\, Arial\, Verdana\, sans-serif\; font-size: 18px\;"><span style="padding: 0px\; margin: 0px\; font-weight: 700\;">Rehabilitated Bald Eagle Release with Q &amp\; A session &ndash\; ENCORE PRESENTATION</span></p>\n\n<p style="padding: 0px\; margin: 0px\; color: rgb(0\, 0\, 0)\; font-family: &quot\;PT Sans Narrow&quot\;\, Helvetica\, Arial\, Verdana\, sans-serif\; font-size: 18px\;">Marge Gibson\, Founder and Executive Director of Raptor Education Group\, Inc (REGI)\, will release a rehabilitated bald eagle back into the wild. Marge is a nationally renowned eagle rehabilitator and educator and will tell the rehab story of the released raptor and share information about the work she does at REGI. This will be followed by a previously recorded Q &amp\; A session with Marge answering questions about Bald Eagles\, wild animal rehabilitation\, the work of REGI\, and other related topics.</p>\n\n<p style="padding: 0px\; margin: 0px 0px 10px\; color: rgb(0\, 0\, 0)\; font-family: &quot\;PT Sans Narrow&quot\;\, Helvetica\, Arial\, Verdana\, sans-serif\; font-size: 18px\;">&nbsp\;</p>\n
LOCATION:
UID:e.1184.26166
SEQUENCE:3
DTSTAMP:20260422T091009Z
URL:http://members.saukprairie.com/events/details/bald-eagle-watching-days-jan-16-23-feb-6-20-2021-26166
END:VEVENT

END:VCALENDAR
