BEGIN:VCALENDAR
VERSION:2.0
PRODID:-//ChamberMaster//Event Calendar 2.0//EN
METHOD:PUBLISH
X-PUBLISHED-TTL:P3D
REFRESH-INTERVAL:P3D
CALSCALE:GREGORIAN
BEGIN:VEVENT
DTSTART;VALUE=DATE:20180112
DTEND;VALUE=DATE:20180115
TRANSP:TRANSPARENT
X-MICROSOFT-CDO-ALLDAYEVENT:TRUE
SUMMARY:Bald Eagle Watching Days Storewide Sale!
DESCRIPTION:Stop in for a storewide sale and unique Eagle items!
X-ALT-DESC;FMTTYPE=text/html:<div class="_2qgs" style="color: rgb(75\, 79\, 86)\; padding: 12px\; position: relative\; border-top: none\; font-family: Helvetica\, Arial\, sans-serif\; font-size: 12px\;"><span class="_4n-j _fbReactionComponent__eventDetailsContentTags fsl" data-testid="event-permalink-details" style="font-size: 14px\; font-family: inherit\;">Stop in for a storewide sale and unique Eagle items!</span></div>\n\n<div class="_1r51" style="line-height: 24px\; margin: 4px 12px 12px\; min-height: 24px\; font-family: Helvetica\, Arial\, sans-serif\; color: rgb(29\, 33\, 41)\; font-size: 12px\;">\n<ul class="uiList uiCollapsedList uiCollapsedListHidden _509- _4ki" id="u_fetchstream_7_o" style="list-style-type: none\; margin: 0px\; padding-right: 0px\; padding-left: 0px\;">\n	<li style="border-width: 0px\; display: inline-block\; vertical-align: top\;">&nbsp\;</li>\n</ul>\n</div>\n
LOCATION:Cameo Antique Mall 827 Water St\, Sauk City\, Wisconsin 53583
UID:e.1184.14624
SEQUENCE:3
DTSTAMP:20260424T175605Z
URL:http://members.saukprairie.com/events/details/bald-eagle-watching-days-storewide-sale-14624
END:VEVENT

END:VCALENDAR
