BEGIN:VCALENDAR
VERSION:2.0
PRODID:-//ChamberMaster//Event Calendar 2.0//EN
METHOD:PUBLISH
X-PUBLISHED-TTL:P3D
REFRESH-INTERVAL:P3D
CALSCALE:GREGORIAN
BEGIN:VEVENT
DTSTART;VALUE=DATE:20240210
DTEND;VALUE=DATE:20240211
TRANSP:TRANSPARENT
X-MICROSOFT-CDO-ALLDAYEVENT:TRUE
SUMMARY:Bald Eagle Watching Days @ Wollersheim
DESCRIPTION:Join us at Wollersheim in Sauk Prairie for an exciting day of eagle watching and festivities during Bald Eagle Watching Day on Feb 10th.\n\n\n\nWollersheim:\n\nLocation: 7876 HWY 188\n\n\n\nActivities:\n\n  Complimentary Winery Tours with Eagle White Wine Tasting (Reserve Online)\n\n  Special on Eagle White Wine by the Glass at Bistro\n\n  Special "Eagle" Cocktail at the Distillery\n\n  See Eagles Soar Over the Vineyards
X-ALT-DESC;FMTTYPE=text/html:<div color:="" font-size:="" segoe="" ui="">Join us at Wollersheim in Sauk Prairie for an exciting day of eagle watching and festivities during Bald Eagle Watching Day on Feb 10th.</div>\n\n<div color:="" font-size:="" segoe="" ui=""><br />\nWollersheim:<br />\nLocation: 7876 HWY 188<br />\n<br />\nActivities:<br />\n&ndash\; Complimentary Winery Tours with Eagle White Wine Tasting (Reserve Online)<br />\n&ndash\; Special on Eagle White Wine by the Glass at Bistro<br />\n&ndash\; Special &ldquo\;Eagle&rdquo\; Cocktail at the Distillery<br />\n&ndash\; See Eagles Soar Over the Vineyards</div>\n
LOCATION:Wollersheim Winery & Distillery
UID:e.1184.31570
SEQUENCE:3
DTSTAMP:20260420T003320Z
URL:http://members.saukprairie.com/events/details/bald-eagle-watching-days-wollersheim-31570
END:VEVENT

END:VCALENDAR
