BEGIN:VCALENDAR
VERSION:2.0
PRODID:-//ChamberMaster//Event Calendar 2.0//EN
METHOD:PUBLISH
X-PUBLISHED-TTL:P3D
REFRESH-INTERVAL:P3D
CALSCALE:GREGORIAN
BEGIN:VEVENT
DTSTART:20190327T193000Z
DTEND:20190327T203000Z
X-MICROSOFT-CDO-ALLDAYEVENT:FALSE
SUMMARY:Balloon Magic Show
DESCRIPTION:Half Twisted-Half Knot is bringing a balloon magic show to the Ruth Culver Community Library Wednesday\, March 27 at 2:30 p.m.  This show combines magic\, balloons and comedy to create an hour of family friendly fun! Many audience volunteers get involved to create a memorable show of crazy antics and large balloon creations.  This event is appropriate for school-age children. Contact Beth at 643-8318 with questions.
X-ALT-DESC;FMTTYPE=text/html:Half Twisted-Half Knot is bringing a balloon magic show to the Ruth Culver Community Library Wednesday\, March 27 at 2:30 p.m.&nbsp\; This show combines magic\, balloons and comedy to create an hour of family friendly fun! Many audience volunteers get involved to create a memorable show of crazy antics and large balloon creations.&nbsp\; This event is appropriate for school-age children. Contact Beth at 643-8318 with questions.
LOCATION:Ruth Culver Community Library 540 Water Street\, Prairie du Sac
UID:e.1184.21615
SEQUENCE:3
DTSTAMP:20260423T202249Z
URL:http://members.saukprairie.com/events/details/balloon-magic-show-21615
END:VEVENT

END:VCALENDAR
