BEGIN:VCALENDAR
VERSION:2.0
PRODID:-//ChamberMaster//Event Calendar 2.0//EN
METHOD:PUBLISH
X-PUBLISHED-TTL:P3D
REFRESH-INTERVAL:P3D
CALSCALE:GREGORIAN
BEGIN:VEVENT
DTSTART;VALUE=DATE:20160422
DTEND;VALUE=DATE:20160423
TRANSP:TRANSPARENT
X-MICROSOFT-CDO-ALLDAYEVENT:TRUE
SUMMARY:Bank of PDS - Shred Fest
DESCRIPTION:Celebrate Community Banking Month with Bank of Prairie du Sac! Customers and community members are encouraged to securely dispose papers with Shred-it and safely recycle electronics with Helping Hands Recycling. Limited to 5 small boxes for Shred-it. Some fees apply through Helping Hands Recycling.
X-ALT-DESC;FMTTYPE=text/html:<span style="color: rgb(5\, 43\, 39)\; font-family: verdana\, tahoma\, arial\, helvetica\, sans-serif\; font-size: 12px\; line-height: normal\;">Celebrate Community Banking Month with Bank of Prairie du Sac! Customers and community members are encouraged to securely dispose papers with Shred-it and safely recycle electronics with Helping Hands Recycling. Limited to 5 small boxes for Shred-it. Some&nbsp\;</span><a href="http://www.bankpds.com/home/misc/tools/news_continued/additionalnews" style="color: rgb(14\, 137\, 122)\; font-family: verdana\, tahoma\, arial\, helvetica\, sans-serif\; font-size: 12px\; line-height: normal\;">fees</a><span style="color: rgb(5\, 43\, 39)\; font-family: verdana\, tahoma\, arial\, helvetica\, sans-serif\; font-size: 12px\; line-height: normal\;">&nbsp\;apply through Helping Hands Recycling.</span>
LOCATION:
UID:e.1184.8353
SEQUENCE:3
DTSTAMP:20260426T033743Z
URL:http://members.saukprairie.com/events/details/bank-of-pds-shred-fest-04-22-2016-8353
END:VEVENT

END:VCALENDAR
