BEGIN:VCALENDAR
VERSION:2.0
PRODID:-//ChamberMaster//Event Calendar 2.0//EN
METHOD:PUBLISH
X-PUBLISHED-TTL:P3D
REFRESH-INTERVAL:P3D
CALSCALE:GREGORIAN
BEGIN:VEVENT
DTSTART:20241101T150000Z
DTEND:20241101T200000Z
X-MICROSOFT-CDO-ALLDAYEVENT:FALSE
SUMMARY:Bank of Prairie du Sac Blood Drive
DESCRIPTION:Bank of Prairie du Sac Blood Drive\n\nTraining Center\n\n280 Washington Street\n\nPrairie du Sac\n\n\n\nFriday\, November 1\, 2024 10:00 a.m. to 3:00 p.m.\n\n\n\nFor an appointment call 1-800-RED CROSS (1-800-733-2767) or visit RedCrossBlood.org and enter Sponsor Code: Bank\n\n\n\nGive a Pint\, Get a Pint! Get a coupon for a FREE pint of Culver's famous frozen custard\, whiles supplies last.\n\n\n\nCome give blood Nov. 1-17 and get a $10 gift card by email. PLUS\, get a chance to win a $7\,000 prize! There will be two lucky winners. Terms apply: rcblood.org/thanks Scan to schedule an appointment.\n\n\n\n1-800-RED CROSS | 1-800-733-2767 | redcrossblood.org | Download the Blood Donor App
X-ALT-DESC;FMTTYPE=text/html:Bank of Prairie du Sac Blood Drive<br />\nTraining Center<br />\n280 Washington Street<br />\nPrairie du Sac<br />\n<br />\nFriday\, November 1\, 2024 10:00 a.m. to 3:00 p.m.<br />\n<br />\nFor an appointment call 1-800-RED CROSS (1-800-733-2767) or visit <strong><a href="https://www.redcrossblood.org/give.html/drive-results?zipSponsor=bank">RedCrossBlood.org</a></strong> and enter Sponsor Code: Bank<br />\n<br />\nGive a Pint\, Get a Pint! Get a coupon for a FREE pint of Culver&#39\;s famous frozen custard\, whiles supplies last.<br />\n<br />\nCome give blood Nov. 1-17 and get a $10 gift card by email. PLUS\, get a chance to win a $7\,000 prize! There will be two lucky winners. Terms apply: rcblood.org/thanks Scan to schedule an appointment.<br />\n<br />\n1-800-RED CROSS | 1-800-733-2767 | redcrossblood.org | Download the Blood Donor App&nbsp\;
LOCATION:Bank of Prairie du Sac Training Center
UID:e.1184.34349
SEQUENCE:3
DTSTAMP:20260419T132256Z
URL:http://members.saukprairie.com/events/details/bank-of-prairie-du-sac-blood-drive-34349
END:VEVENT

END:VCALENDAR
