BEGIN:VCALENDAR
VERSION:2.0
PRODID:-//ChamberMaster//Event Calendar 2.0//EN
METHOD:PUBLISH
X-PUBLISHED-TTL:P3D
REFRESH-INTERVAL:P3D
CALSCALE:GREGORIAN
BEGIN:VEVENT
DTSTART:20240926T230000Z
DTEND:20240927T000000Z
X-MICROSOFT-CDO-ALLDAYEVENT:FALSE
SUMMARY:Banned Book Club
DESCRIPTION:This Banned Books Week celebration will be an open-ended discussion on book banning\, the books that are challenged\, and the reasons why. \n\n\n\nBring any banned book you love or check out one of our five selected titles: The Hate U Give\, Persepolis\, The Absolutely True Diary of A Part Time Indian (available on hoopla)\, Ender's Game\, and They Both Die at the End. Copies of the books (including large print\, Spanish\, and audiobook) are available for check out.
X-ALT-DESC;FMTTYPE=text/html:This Banned Books Week celebration will be an open-ended discussion on book banning\, the books that are challenged\, and the reasons why.&nbsp\;<br />\n<br />\nBring any banned book you love or check out one of our five selected titles: The Hate U Give\, Persepolis\, The Absolutely True Diary of A Part Time Indian (available on <a href="https://www.hoopladigital.com/">hoopla</a>)\, Ender&#39\;s Game\, and They Both Die at the End. Copies of the books (including large print\, Spanish\, and audiobook) are available for check out.
LOCATION:George Culver Community Library - Sauk City
UID:e.1184.33024
SEQUENCE:3
DTSTAMP:20260419T150145Z
URL:http://members.saukprairie.com/events/details/banned-book-club-33024
END:VEVENT

END:VCALENDAR
