BEGIN:VCALENDAR
VERSION:2.0
PRODID:-//ChamberMaster//Event Calendar 2.0//EN
METHOD:PUBLISH
X-PUBLISHED-TTL:P3D
REFRESH-INTERVAL:P3D
CALSCALE:GREGORIAN
BEGIN:VEVENT
DTSTART;VALUE=DATE:20240921
DTEND;VALUE=DATE:20240922
TRANSP:TRANSPARENT
X-MICROSOFT-CDO-ALLDAYEVENT:TRUE
SUMMARY:Bar Buddies Bash
DESCRIPTION:Bar Buddies Bash\n\n\n\nSaturday\, September 21st\n\n\n\nBean Bag Tournament\n\n	Registration at 3pm\n	Bags Fly at 4pm (Bring your own bags)\n	Pre-Register at The Shop\n	Registration fee:  $40/team\n\nLive Music at 6pm by Gary Frisch & The Truth Band
X-ALT-DESC;FMTTYPE=text/html:Bar Buddies Bash<br />\n<br />\nSaturday\, September 21st<br />\n<br />\nBean Bag Tournament\n<ul>\n	<li>Registration at 3pm</li>\n	<li>Bags Fly at 4pm (Bring your own bags)</li>\n	<li>Pre-Register at The Shop</li>\n	<li>Registration fee:&nbsp\; $40/team</li>\n</ul>\nLive Music at 6pm by Gary Frisch &amp\; The Truth Band
LOCATION:The Shop Fair Valley Bar & Grill
UID:e.1184.32913
SEQUENCE:3
DTSTAMP:20260419T145042Z
URL:http://members.saukprairie.com/events/details/bar-buddies-bash-32913
END:VEVENT

END:VCALENDAR
