BEGIN:VCALENDAR
VERSION:2.0
PRODID:-//ChamberMaster//Event Calendar 2.0//EN
METHOD:PUBLISH
X-PUBLISHED-TTL:P3D
REFRESH-INTERVAL:P3D
CALSCALE:GREGORIAN
BEGIN:VEVENT
DTSTART:20181202T000000Z
DTEND:20181202T030000Z
X-MICROSOFT-CDO-ALLDAYEVENT:FALSE
SUMMARY:Bark after Dark
DESCRIPTION:The Sauk County Humane Society's end of the year social fundraiser\, Bark after Dark\, will take place Saturday\, December 1\, 2018 from 6:00-9:00pm at Devil's Head Resort. This silent auction event\, sponsored by Sweet Hut and the Jane Barton Trust includes music\, magic\, a wine pull\, cash raffle\, photo booth and much more! ~Reservations are $75 and includes admission\, hors d'oeuvres\, entertainment\, complimentary drink and goodie bag. ~Reservation tickets are limited and expected to sell out. Reserve your ticket today at www.saukhumane.org or call 608-356-2520. ~~Raffle tickets are 1 for $5 or 5 for $20 and prizes of $1000 and $500 will be drawn at the event. With performances from Violinist David Huntsman\, concertmaster of the Edgewood Chamber Orchestra and member of the Madison Symphony Orchestra\, and strolling magic from James the Magician this year's Bark after Dark is sure to be the "cat's meow!"
X-ALT-DESC;FMTTYPE=text/html:The Sauk County Humane Society&rsquo\;s end of the year social fundraiser\, Bark after Dark\, will take place Saturday\, December 1\, 2018 from 6:00-9:00pm at Devil&rsquo\;s Head Resort. This silent auction event\, sponsored by Sweet Hut and the Jane Barton Trust includes music\, magic\, a wine pull\, cash raffle\, photo booth and much more! ~Reservations are $75 and includes admission\, hors d&rsquo\;oeuvres\, entertainment\, complimentary drink and goodie bag. ~Reservation tickets are limited and expected to sell out. Reserve your ticket today at www.saukhumane.org or call 608-356-2520. ~~Raffle tickets are 1 for $5 or 5 for $20 and prizes of $1000 and $500 will be drawn at the event. With performances from Violinist David Huntsman\, concertmaster of the Edgewood Chamber Orchestra and member of the Madison Symphony Orchestra\, and strolling magic from James the Magician this year&#39\;s Bark after Dark is sure to be the &quot\;cat&#39\;s meow!&quot\;
LOCATION:Devil's Head Resort S6330 Bluff Rd\, Merrimac\, WI 53561
UID:e.1184.21426
SEQUENCE:3
DTSTAMP:20260424T003110Z
URL:http://members.saukprairie.com/events/details/bark-after-dark-21426
END:VEVENT

END:VCALENDAR
