BEGIN:VCALENDAR
VERSION:2.0
PRODID:-//ChamberMaster//Event Calendar 2.0//EN
METHOD:PUBLISH
X-PUBLISHED-TTL:P3D
REFRESH-INTERVAL:P3D
CALSCALE:GREGORIAN
BEGIN:VEVENT
DTSTART:20190708T180000Z
DTEND:20190708T190000Z
X-MICROSOFT-CDO-ALLDAYEVENT:FALSE
SUMMARY:Basics of Face Painting & Balloon Twisting Fun!
DESCRIPTION:Learn the basics of face painting and balloon twisting fun at the Ruth Culver Community Library Monday\, July 8 at 1:00 p.m.  Julie and Steve Surprenant of Paint My Face will share their talents with attendees. Children of all ages are welcome. Latex will be present. Contact Beth at 643-8318 with questions.
X-ALT-DESC;FMTTYPE=text/html:Learn the basics of face painting and balloon twisting fun at the Ruth Culver Community Library Monday\, July 8 at 1:00 p.m.&nbsp\; Julie and Steve Surprenant of Paint My Face will share their talents with attendees. Children of all ages are welcome. <strong>Latex will be present</strong>. Contact Beth at 643-8318 with questions.
LOCATION:Ruth Culver Community Library 540 Water Street\, Prairie du Sac
UID:e.1184.22319
SEQUENCE:3
DTSTAMP:20260423T143720Z
URL:http://members.saukprairie.com/events/details/basics-of-face-painting-balloon-twisting-fun-22319
END:VEVENT

END:VCALENDAR
