BEGIN:VCALENDAR
VERSION:2.0
PRODID:-//ChamberMaster//Event Calendar 2.0//EN
METHOD:PUBLISH
X-PUBLISHED-TTL:P3D
REFRESH-INTERVAL:P3D
CALSCALE:GREGORIAN
BEGIN:VEVENT
DTSTART:20180828T230000Z
DTEND:20180829T004500Z
X-MICROSOFT-CDO-ALLDAYEVENT:FALSE
SUMMARY:Bath Bombs & Teas
DESCRIPTION:Join us at the Ruth Culver Community Library Tuesday\, August 28 at 6:00 p.m. to make your own bath bombs and teas to turn your bath into a spa retreat. This event is open to adults only and registration is required. Contact Meagan at 643-8318 with questions. Sponsored by the Friends of the Ruth Culver Community Library.
X-ALT-DESC;FMTTYPE=text/html:Join us at the Ruth Culver Community Library Tuesday\, August 28 at 6:00 p.m. to make your own bath bombs and teas to turn your bath into a spa retreat. This event is open to adults only and registration is required. Contact Meagan at 643-8318 with questions. Sponsored by the Friends of the Ruth Culver Community Library.
LOCATION:Ruth Culver Community Library 540 Water Street\, Prairie du Sac
UID:e.1184.18365
SEQUENCE:3
DTSTAMP:20260424T063830Z
URL:http://members.saukprairie.com/events/details/bath-bombs-teas-18365
END:VEVENT

END:VCALENDAR
