BEGIN:VCALENDAR
VERSION:2.0
PRODID:-//ChamberMaster//Event Calendar 2.0//EN
METHOD:PUBLISH
X-PUBLISHED-TTL:P3D
REFRESH-INTERVAL:P3D
CALSCALE:GREGORIAN
BEGIN:VEVENT
DTSTART:20220813T180000Z
DTEND:20220814T020000Z
X-MICROSOFT-CDO-ALLDAYEVENT:FALSE
SUMMARY:BBQ & CURD FEST
DESCRIPTION:Please join us August 13th for a delicious day at The Vines! There will be BBQ\, Blues Music\, 50/50 fundraiser raffle\, an apple pie toast\, and of course award winning Wisconsin cheese curds!\n\n\n\nSandwich Bar - Pulled pork and pulled chicken on a brioche bun\, fresh coleslaw\, chips\, pickles\, and warm BBQ sauce.\n\n\n\nCheese Curd Bar - Fresh and fried local Wisconsin muenster and cheddar cheese curds. 6 varieties!\n\n\n\nEvent info:\n\n	Doors open at 1pm\n	This is a rain or shine event\n	BYO everything - chairs\, blankets\, coolers\, drinks\, etc. (everything but food)\n	Food sales are CASH ONLY\, there will not be an ATM\, so make sure to bring cash\n	Apple pie toast & National Anthem at 2pm\n	Food served 2-8pm\n	Ted & Gary play at 2pm\n	50/50 prize raffle at 5:30pm\n	Madtown Mannish Boys play at 6pm\n	Event ends at 9pm\n\nFor more information visit: https://www.facebook.com/events/5125852470829870/?ref=newsfeed
X-ALT-DESC;FMTTYPE=text/html:Please join us August 13th for a delicious day at The Vines! There will be BBQ\, Blues Music\, 50/50 fundraiser raffle\, an apple pie toast\, and of course award winning Wisconsin cheese curds!<br />\n<br />\nSandwich Bar - Pulled pork and pulled chicken on a brioche bun\, fresh coleslaw\, chips\, pickles\, and warm BBQ sauce.<br />\n<br />\nCheese Curd Bar - Fresh and fried local Wisconsin muenster and cheddar cheese curds. 6 varieties!<br />\n<br />\nEvent info:\n<ul>\n	<li>Doors open at 1pm</li>\n	<li>This is a rain or shine event</li>\n	<li>BYO everything - chairs\, blankets\, coolers\, drinks\, etc. (everything but food)</li>\n	<li>Food sales are CASH ONLY\, there will not be an ATM\, so make sure to bring cash</li>\n	<li>Apple pie toast &amp\; National Anthem at 2pm</li>\n	<li>Food served 2-8pm</li>\n	<li>Ted &amp\; Gary play at 2pm</li>\n	<li>50/50 prize raffle at 5:30pm</li>\n	<li>Madtown Mannish Boys play at 6pm</li>\n	<li>Event ends at 9pm</li>\n</ul>\nFor more information visit:&nbsp\;https://www.facebook.com/events/5125852470829870/?ref=newsfeed<br />\n&nbsp\;
LOCATION:The Vines - W13002 Schoepp Rd\, Sauk City
UID:e.1184.28173
SEQUENCE:3
DTSTAMP:20260421T073455Z
URL:http://members.saukprairie.com/events/details/bbq-curd-fest-28173
END:VEVENT

END:VCALENDAR
