BEGIN:VCALENDAR
VERSION:2.0
PRODID:-//ChamberMaster//Event Calendar 2.0//EN
METHOD:PUBLISH
X-PUBLISHED-TTL:P3D
REFRESH-INTERVAL:P3D
CALSCALE:GREGORIAN
BEGIN:VEVENT
DTSTART;VALUE=DATE:20230916
DTEND;VALUE=DATE:20230917
TRANSP:TRANSPARENT
X-MICROSOFT-CDO-ALLDAYEVENT:TRUE
SUMMARY:Bean Bag Toss Tournament
DESCRIPTION:Bean Bag Toss Tournament\n\nSeptember 16\, 2023 The Vines - W13002 Schoepp Rd\, Sauk City\, WI\n\n\n	Sign-up as a team\n	$40.00 per person\n	Each team will play 2 game minimum\n	Prizes awarded throughout the tournament\n	Rules & Policies (Click Here for PDF)\n	Tournaments Starts at 1:00 pm\n	Food Stand\, Raffles & Silent Auction start at 12:00 pm\n\n\n \n\nRegister your team here. Register by August 24th and a Leah's Ladies shirt will be included with your registration.\n\n\nUnable to play\, you can still support Leah's Ladies:\n\n\n	Make a donation\n	Purchase a t-shirt using this form (payment and order must be submitted prior to 8/23)\n\n\nPayment Info:\n\n\n	Venmo @Nicole-Haselwander\n	Checks made payable to Leah's Ladies and mailed to:\n\n\nNicole Haselwander\n\n6955 Hirschberg Rd\n\nSauk City\, WI 53583
X-ALT-DESC;FMTTYPE=text/html:<h1 style="color: rgb(243\, 128\, 37)\; padding: 0px\; margin: 0px\; font-size: 20px\; line-height: 24px\; font-family: Arial\, Helvetica\, sans-serif\;">Bean Bag Toss Tournament</h1>\n\n<p style="font-size: medium\; line-height: 20px\; padding: 10px 0px\; margin: 0px\; font-family: Arial\, Helvetica\, sans-serif\;"><strong>September 16\, 2023 The Vines - W13002 Schoepp Rd\, Sauk City\, WI</strong></p>\n\n<ul style="padding-right: 0px\; padding-left: 30px\; margin: 0px\; font-family: Arial\, Helvetica\, sans-serif\; font-size: medium\;">\n	<li style="font-size: 16px\; line-height: 20px\; padding: 0px 0px 2px\; margin: 0px\;">Sign-up as a team</li>\n	<li style="font-size: 16px\; line-height: 20px\; padding: 0px 0px 2px\; margin: 0px\;">$40.00 per person</li>\n	<li style="font-size: 16px\; line-height: 20px\; padding: 0px 0px 2px\; margin: 0px\;">Each team will play 2 game minimum</li>\n	<li style="font-size: 16px\; line-height: 20px\; padding: 0px 0px 2px\; margin: 0px\;">Prizes awarded throughout the tournament</li>\n	<li style="font-size: 16px\; line-height: 20px\; padding: 0px 0px 2px\; margin: 0px\;">Rules &amp\; Policies (<a href="http://www.leahsladies.com/Tournament%20Rules%20and%20Policies.pdf" style="color: rgb(255\, 102\, 0)\; text-decoration-line: none\;" target="_blank">Click Here</a>&nbsp\;for PDF)</li>\n	<li style="font-size: 16px\; line-height: 20px\; padding: 0px 0px 2px\; margin: 0px\;">Tournaments Starts at 1:00 pm</li>\n	<li style="font-size: 16px\; line-height: 20px\; padding: 0px 0px 2px\; margin: 0px\;">Food Stand\, Raffles &amp\; Silent Auction start at 12:00 pm</li>\n</ul>\n\n<div class="clearFloat" style="clear: both\; font-family: Arial\, Helvetica\, sans-serif\; font-size: medium\;">&nbsp\;</div>\n\n<p style="font-size: medium\; line-height: 20px\; padding: 10px 0px\; margin: 0px\; font-family: Arial\, Helvetica\, sans-serif\;"><strong>Register your team&nbsp\;<a href="https://leahsladies.wufoo.com/forms/z1ktjex50wdpqeu/" style="color: rgb(255\, 102\, 0)\; text-decoration-line: none\;">here</a>. Register by August 24th and a Leah&#39\;s Ladies shirt will be included with your registration.</strong></p>\n\n<div style="font-family: Arial\, Helvetica\, sans-serif\; font-size: medium\;">\n<p style="font-size: 16px\; line-height: 20px\; padding: 10px 0px\; margin: 0px\;"><strong>Unable to play\, you can still support Leah&#39\;s Ladies:</strong></p>\n\n<ul style="padding-right: 0px\; padding-left: 30px\; margin: 0px\;">\n	<li style="font-size: 16px\; line-height: 20px\; padding: 0px 0px 2px\; margin: 0px\;">Make a donation</li>\n	<li style="font-size: 16px\; line-height: 20px\; padding: 0px 0px 2px\; margin: 0px\;">Purchase a t-shirt using this&nbsp\;<strong><a href="https://leahsladies.wufoo.com/forms/m1c3neur1wz6xw9/" style="color: rgb(255\, 102\, 0)\; text-decoration-line: none\;">form</a></strong>&nbsp\;(payment and order must be submitted prior to 8/23)</li>\n</ul>\n\n<p style="font-size: 16px\; line-height: 20px\; padding: 10px 0px\; margin: 0px\;"><strong>Payment Info:</strong></p>\n\n<ul style="padding-right: 0px\; padding-left: 30px\; margin: 0px\;">\n	<li style="font-size: 16px\; line-height: 20px\; padding: 0px 0px 2px\; margin: 0px\;">Venmo @Nicole-Haselwander</li>\n	<li style="font-size: 16px\; line-height: 20px\; padding: 0px 0px 2px\; margin: 0px\;">Checks made payable to Leah&#39\;s Ladies and mailed to:</li>\n</ul>\n\n<p style="font-size: 16px\; line-height: 20px\; padding: 10px 0px\; margin: 0px\;">Nicole Haselwander<br />\n6955 Hirschberg Rd<br />\nSauk City\, WI 53583</p>\n</div>\n
LOCATION:The Vines - W13002 Schoepp Rd
UID:e.1184.30909
SEQUENCE:3
DTSTAMP:20260420T073904Z
URL:http://members.saukprairie.com/events/details/bean-bag-toss-tournament-30909
END:VEVENT

END:VCALENDAR
