BEGIN:VCALENDAR
VERSION:2.0
PRODID:-//ChamberMaster//Event Calendar 2.0//EN
METHOD:PUBLISH
X-PUBLISHED-TTL:P3D
REFRESH-INTERVAL:P3D
CALSCALE:GREGORIAN
BEGIN:VEVENT
DTSTART:20180901T190000Z
DTEND:20180901T220000Z
X-MICROSOFT-CDO-ALLDAYEVENT:FALSE
SUMMARY:Bean Bag Tournament
DESCRIPTION:Registration begins at 1pm\, tournament starts at 2pm. CASH prizes for 1st\, 2nd\, and 3rd. Cost is $20 per team. \n\n\n\nTo sign up\, contact Heather Ceaser by sending a message to the Bar Buddies page\, or calling/texting her at 608-370-3923.
X-ALT-DESC;FMTTYPE=text/html:<span style="color: rgb(29\, 33\, 41)\; font-family: Helvetica\, Arial\, sans-serif\; font-size: 14px\;">Registration begins at 1pm\, tournament starts at 2pm. CASH prizes for 1st\, 2nd\, and 3rd. Cost is $20 per team.&nbsp\;</span><br style="color: rgb(29\, 33\, 41)\; font-family: Helvetica\, Arial\, sans-serif\; font-size: 14px\;" />\n<br style="color: rgb(29\, 33\, 41)\; font-family: Helvetica\, Arial\, sans-serif\; font-size: 14px\;" />\n<span style="color: rgb(29\, 33\, 41)\; font-family: Helvetica\, Arial\, sans-serif\; font-size: 14px\;">To sign up\, contact Heather Ceaser by sending a message to the Bar Buddies page\, or calling/texting her at 608-370-3923.</span>
LOCATION:
UID:e.1184.20488
SEQUENCE:3
DTSTAMP:20260424T064008Z
URL:http://members.saukprairie.com/events/details/bean-bag-tournament-20488
END:VEVENT

END:VCALENDAR
