BEGIN:VCALENDAR
VERSION:2.0
PRODID:-//ChamberMaster//Event Calendar 2.0//EN
METHOD:PUBLISH
X-PUBLISHED-TTL:P3D
REFRESH-INTERVAL:P3D
CALSCALE:GREGORIAN
BEGIN:VEVENT
DTSTART:20190215T233000Z
DTEND:20190216T033000Z
X-MICROSOFT-CDO-ALLDAYEVENT:FALSE
SUMMARY:Beer VS. Wine: Beer Dinner
DESCRIPTION:Join us for a chef planned and prepared three course dinner featuring beer and wine pairings with each course. Cocktail hour will begin at 5:30PM with hors d'oeuvres and a hosted glass of wine or beer. Dinner will begin at 6:30PM. Fun and informative discussions will be held by Vintage and Wollersheim Winery staff related to the food pairings\, the histories of each producer and of the region's history of wine and beer production. It's the perfect date night event & experience to give as a gift this holiday season or treat to yourself! \n\n\n\nTickets: $45
X-ALT-DESC;FMTTYPE=text/html:<span style="color: rgb(29\, 33\, 41)\; font-family: Helvetica\, Arial\, sans-serif\; font-size: 14px\;">Join us for a chef planned and prepared three course dinner featuring beer and wine pairings with each course. Cocktail hour will begin at 5:30PM with hors d&#39\;oeuvres and a hosted glass of wine or beer. Dinner will begin at 6:30PM. Fun and informative discussions will be held by Vintage and&nbsp\;</span><a href="https://www.facebook.com/WollersheimWinery/" style="color: rgb(54\, 88\, 153)\; cursor: pointer\; text-decoration-line: none\; font-family: Helvetica\, Arial\, sans-serif\; font-size: 14px\;" target="_blank">Wollersheim Winery</a><span style="color: rgb(29\, 33\, 41)\; font-family: Helvetica\, Arial\, sans-serif\; font-size: 14px\;">&nbsp\;staff related to the food pairings\, the histories of each producer and of the region&rsquo\;s history of wine and beer production. It&rsquo\;s the perfect date night event &amp\; experience to give as a gift this holiday season or treat to yourself!&nbsp\;</span><br style="color: rgb(29\, 33\, 41)\; font-family: Helvetica\, Arial\, sans-serif\; font-size: 14px\;" />\n<br style="color: rgb(29\, 33\, 41)\; font-family: Helvetica\, Arial\, sans-serif\; font-size: 14px\;" />\n<span style="color: rgb(29\, 33\, 41)\; font-family: Helvetica\, Arial\, sans-serif\; font-size: 14px\;">Tickets: $45</span>
LOCATION:Vintage Brewing Co. 600 Water Street Sauk City\, WI 53583
UID:e.1184.21631
SEQUENCE:3
DTSTAMP:20260423T212849Z
URL:http://members.saukprairie.com/events/details/beer-vs-wine-beer-dinner-21631
END:VEVENT

END:VCALENDAR
