BEGIN:VCALENDAR
VERSION:2.0
PRODID:-//ChamberMaster//Event Calendar 2.0//EN
METHOD:PUBLISH
X-PUBLISHED-TTL:P3D
REFRESH-INTERVAL:P3D
CALSCALE:GREGORIAN
BEGIN:VEVENT
DTSTART:20200227T010000Z
DTEND:20200227T020000Z
X-MICROSOFT-CDO-ALLDAYEVENT:FALSE
SUMMARY:Beginner Yoga Class
DESCRIPTION:Beginner Yoga is a basic class to give students of all levels the opportunity learn the fundamentals of yoga. Get introduced to the postures (asana)\, breathing techniques (pranayama)\, and learn proper alignment to give you a firm foundation so you can confidently step into any class. Beginner Yoga is for students who have never practiced yoga before\, who are returning to yoga after a break\, those with physical challenges or regular practitioners looking to brush up on their fundamentals. This class is heated to 90.
X-ALT-DESC;FMTTYPE=text/html:<span style="color:rgb(0\, 0\, 0)\; font-family:verdana\,arial\,helvetica\,sans-serif\; font-size:14px">Beginner Yoga is a basic class to give students of all levels the opportunity learn the fundamentals of yoga. Get introduced to the postures (asana)\, breathing techniques (pranayama)\, and learn proper alignment to give you a firm foundation so you can confidently step into any class. Beginner Yoga is for students who have never practiced yoga before\, who are returning to yoga after a break\, those with physical challenges or regular practitioners looking to brush up on their fundamentals. This class is heated to 90.</span>
LOCATION:Prairie Fire Yoga 560 Park Ave Prairie du Sac
UID:e.1184.24030
SEQUENCE:3
DTSTAMP:20260423T041120Z
URL:http://members.saukprairie.com/events/details/beginner-yoga-class-02-26-2020-24030
END:VEVENT

END:VCALENDAR
