BEGIN:VCALENDAR
VERSION:2.0
PRODID:-//ChamberMaster//Event Calendar 2.0//EN
METHOD:PUBLISH
X-PUBLISHED-TTL:P3D
REFRESH-INTERVAL:P3D
CALSCALE:GREGORIAN
BEGIN:VEVENT
DTSTART:20221130T150000Z
DTEND:20221130T160000Z
X-MICROSOFT-CDO-ALLDAYEVENT:FALSE
SUMMARY:Beginning and Enhancing a Meditation Practice
DESCRIPTION:Learn practical tips to begin and enhance a meditation practice. We will review different types of meditation and highlight strategies to prepare one's mind\, environment and body to sustain a successful meditation practice.\n\n\n\nClass led by Dr. Betty J. Kramer (Lama Chonyi)\, a Professor Emeritus of Social Work at UW-Madison\, Fellow of the Center for Contemplative Mind in Society\, and practitioner of Tibetan Buddhism. She is a teacher for Joyful Path Healing Center and is an ordained senior student and Lama within White Conch Dharma Center. This program is brought to you by a Healthy Living Grant from the Sauk Prairie Healthcare Foundation.
X-ALT-DESC;FMTTYPE=text/html:Learn practical tips to begin and enhance a meditation practice. We will review different types of meditation and highlight strategies to prepare one&rsquo\;s mind\, environment and body to sustain a successful meditation practice.<br />\n<br />\nClass led by Dr. Betty J. Kramer (Lama Chonyi)\, a Professor Emeritus of Social Work at UW-Madison\, Fellow of the Center for Contemplative Mind in Society\, and practitioner of Tibetan Buddhism. She is a teacher for Joyful Path Healing Center and is an ordained senior student and Lama within White Conch Dharma Center.&nbsp\;This program is brought to you by a Healthy Living Grant from the Sauk Prairie Healthcare Foundation.
LOCATION:615 Phillips Blvd Sauk City 53583
UID:e.1184.28782
SEQUENCE:3
DTSTAMP:20260421T020342Z
URL:http://members.saukprairie.com/events/details/beginning-and-enhancing-a-meditation-practice-28782
END:VEVENT

END:VCALENDAR
