BEGIN:VCALENDAR
VERSION:2.0
PRODID:-//ChamberMaster//Event Calendar 2.0//EN
METHOD:PUBLISH
X-PUBLISHED-TTL:P3D
REFRESH-INTERVAL:P3D
CALSCALE:GREGORIAN
BEGIN:VEVENT
DTSTART:20221018T233000Z
DTEND:20221019T003000Z
X-MICROSOFT-CDO-ALLDAYEVENT:FALSE
SUMMARY:Beginning Beekeeping
DESCRIPTION:Darin Kuhnke of Prairie Gold Honey will give a brief overview of what it takes to become a beekeeper Tuesday\, October 18 at 6:30pm.  No registration required unless you wish to receive email reminders about the event.
X-ALT-DESC;FMTTYPE=text/html:<span style="color:rgb(43\, 43\, 43)\; font-family:arial\,helvetica\,nimbus sans l\,sans-serif\; font-size:16px">Darin Kuhnke of Prairie Gold Honey will give a brief overview of what it takes to become a beekeeper Tuesday\, October 18 at 6:30pm.&nbsp\; No&nbsp\;</span><a href="https://ruthculver.librarycalendar.com/event/beginning-beekeeping" style="box-sizing: border-box\; color: rgb(64\, 94\, 97)\; font-family: Arial\, Helvetica\, &quot\;Nimbus Sans L&quot\;\, sans-serif\; font-size: 16px\;">registration</a><span style="color:rgb(43\, 43\, 43)\; font-family:arial\,helvetica\,nimbus sans l\,sans-serif\; font-size:16px">&nbsp\;required unless you wish to receive email reminders about the event.</span>
LOCATION:Ruth Culver Community Library 540 Water Street Prairie du Sac\, WI 53578
UID:e.1184.28736
SEQUENCE:3
DTSTAMP:20260421T032243Z
URL:http://members.saukprairie.com/events/details/beginning-beekeeping-28736
END:VEVENT

END:VCALENDAR
