BEGIN:VCALENDAR
VERSION:2.0
PRODID:-//ChamberMaster//Event Calendar 2.0//EN
METHOD:PUBLISH
X-PUBLISHED-TTL:P3D
REFRESH-INTERVAL:P3D
CALSCALE:GREGORIAN
BEGIN:VEVENT
DTSTART:20230520T140000Z
DTEND:20230521T210000Z
X-MICROSOFT-CDO-ALLDAYEVENT:FALSE
SUMMARY:Beginning Drawing with Philip Salamone
DESCRIPTION:This workshop\, aimed at people looking for a foundation in representational drawing\, gives students the tools to strengthen their observational skills in order to make drawings that are convincing and true to life. Using a step-by-step process\, discover a number of principles to help you see\, interpret\, and express the world around you. Demonstrations as well as personalized critiques guide you through each stage of the process. Topics to be covered include proportions/placements\, measuring\, shading\, light phenomena\, perspective\, and edges. No prior experience is necessary.
X-ALT-DESC;FMTTYPE=text/html:This workshop\, aimed at people looking for a foundation in representational drawing\, gives students the tools to strengthen their observational skills in order to make drawings that are convincing and true to life. Using a step-by-step process\, discover a number of principles to help you see\, interpret\, and express the world around you. Demonstrations as well as personalized critiques guide you through each stage of the process. Topics to be covered include proportions/placements\, measuring\, shading\, light phenomena\, perspective\, and edges.&nbsp\;No prior experience is necessary.
LOCATION:590 Water St\, Prairie du Sac\, WI 53578
UID:e.1184.28242
SEQUENCE:3
DTSTAMP:20260420T131741Z
URL:http://members.saukprairie.com/events/details/beginning-drawing-with-philip-salamone-28242
END:VEVENT

END:VCALENDAR
