BEGIN:VCALENDAR
VERSION:2.0
PRODID:-//ChamberMaster//Event Calendar 2.0//EN
METHOD:PUBLISH
X-PUBLISHED-TTL:P3D
REFRESH-INTERVAL:P3D
CALSCALE:GREGORIAN
BEGIN:VEVENT
DTSTART;VALUE=DATE:20191116
DTEND;VALUE=DATE:20191117
TRANSP:TRANSPARENT
X-MICROSOFT-CDO-ALLDAYEVENT:TRUE
SUMMARY:Beginning the Best Decade: 60 Years and Beyond
DESCRIPTION:Extension Sauk County will be hosting a conference on active and healthy aging for 60 years and beyond. "Beginning the Best Decade\; 60 Years and Beyond" is a free\, public event open to Sauk County residents preparing for retirement\, exploring retirement currently\, or living with/ caring for someone who has retired. The conference will be held on Saturday\, November 16th at start at 8am. The focus of the conference is to celebrate active and healthy living\, as well as empower local residents to be part of the health\, financial\, and social decision-making systems\, services and activities that make up their daily life as Sauk County residents.
X-ALT-DESC;FMTTYPE=text/html:Extension Sauk County will be hosting a conference on active and healthy aging for 60 years and beyond. &ldquo\;Beginning the Best Decade\; 60 Years and Beyond&rdquo\; is a free\, public event open to Sauk County residents preparing for retirement\, exploring retirement currently\, or living with/ caring for someone who has retired. The conference will be held on Saturday\, November 16th at start at 8am. The focus of the conference is to celebrate active and healthy living\, as well as empower local residents to be part of the health\, financial\, and social decision-making systems\, services and activities that make up their daily life as Sauk County residents.
LOCATION:Baraboo High School\, 1201 Draper Street\, Baraboo\, WI 53913
UID:e.1184.23629
SEQUENCE:3
DTSTAMP:20260423T095232Z
URL:http://members.saukprairie.com/events/details/beginning-the-best-decade-60-years-and-beyond-23629
END:VEVENT

END:VCALENDAR
