BEGIN:VCALENDAR
VERSION:2.0
PRODID:-//ChamberMaster//Event Calendar 2.0//EN
METHOD:PUBLISH
X-PUBLISHED-TTL:P3D
REFRESH-INTERVAL:P3D
CALSCALE:GREGORIAN
BEGIN:VEVENT
DTSTART:20230717T203000Z
DTEND:20230717T213000Z
X-MICROSOFT-CDO-ALLDAYEVENT:FALSE
SUMMARY:Ben-Day Dot Art
DESCRIPTION:Teens and tweens are invited to come to the library and create their own pop-art in the Ben-Day dot style. For ages 11 to 18. Registration is required. Call or visit the library to sign up!
X-ALT-DESC;FMTTYPE=text/html:Teens and tweens are invited to come to the library and create their own pop-art in the Ben-Day dot style. For ages 11 to 18. Registration is required. Call or visit the library to sign up!
LOCATION:615 Phillips Blvd. Sauk City\, WI 53583
UID:e.1184.30874
SEQUENCE:3
DTSTAMP:20260420T102227Z
URL:http://members.saukprairie.com/events/details/ben-day-dot-art-30874
END:VEVENT

END:VCALENDAR
