BEGIN:VCALENDAR
VERSION:2.0
PRODID:-//ChamberMaster//Event Calendar 2.0//EN
METHOD:PUBLISH
X-PUBLISHED-TTL:P3D
REFRESH-INTERVAL:P3D
CALSCALE:GREGORIAN
BEGIN:VEVENT
DTSTART:20190928T160000Z
DTEND:20190928T230000Z
X-MICROSOFT-CDO-ALLDAYEVENT:FALSE
SUMMARY:Bi-County Bogey Crawl
DESCRIPTION:Bar Buddies Lodi and Sauk Prairie present the 1st Annual Bi-County Bogey Brawl. Which town will come out on top as the towns go head to head?!\n\n\n\n$55 per golfer ($45 for members) - 4 man scramble\, includes food and a chance at cash and hole prizes\n\n\n\nRegistration from 11am-12pm\, shotgun start at 12:30pm\n\n\n\nSign up today as space is limited!!\n\n\n\nFollow the link here: https://www.surveymonkey.com/r/XP965V5 or message one of the Bar Buddies programs and we will get your team signed up.
X-ALT-DESC;FMTTYPE=text/html:<span style="color:rgb(29\, 33\, 41)\; font-family:helvetica\,arial\,sans-serif\; font-size:14px">Bar Buddies Lodi and Sauk Prairie present the 1st Annual Bi-County Bogey Brawl. Which town will come out on top as the towns go head to head?!</span><br />\n<br />\n<span style="color:rgb(29\, 33\, 41)\; font-family:helvetica\,arial\,sans-serif\; font-size:14px">$55 per golfer ($45 for members) - 4 man scramble\, includes food and a chance at cash and hole prizes</span><br />\n<br />\n<span style="color:rgb(29\, 33\, 41)\; font-family:helvetica\,arial\,sans-serif\; font-size:14px">Registration from 11am-12pm\, shotgun start at 12:30pm</span><br />\n<br />\n<span style="color:rgb(29\, 33\, 41)\; font-family:helvetica\,arial\,sans-serif\; font-size:14px">Sign up today as space is limited!!</span><br />\n<br />\n<span style="color:rgb(29\, 33\, 41)\; font-family:helvetica\,arial\,sans-serif\; font-size:14px">Follow the link here: </span><a href="https://www.surveymonkey.com/r/XP965V5?fbclid=IwAR2_om9x3NHnOdb_5IXWIole1a6vJ1HL2UEVOLD6itiOVQuTL212f1pQqZc" rel="nofollow noopener" style="color: rgb(56\, 88\, 152)\; cursor: pointer\; text-decoration-line: none\; font-family: Helvetica\, Arial\, sans-serif\; font-size: 14px\; white-space: pre-wrap\;" target="_blank">https://www.surveymonkey.com/r/XP965V5</a><span style="color:rgb(29\, 33\, 41)\; font-family:helvetica\,arial\,sans-serif\; font-size:14px"> or message one of the Bar Buddies programs and we will get your team signed up. </span>
LOCATION:Lake Wisconsin Country Club - N1076 Golf Rd\, Prairie Du Sac 53578
UID:e.1184.22749
SEQUENCE:3
DTSTAMP:20260423T113052Z
URL:http://members.saukprairie.com/events/details/bi-county-bogey-crawl-22749
END:VEVENT

END:VCALENDAR
