BEGIN:VCALENDAR
VERSION:2.0
PRODID:-//ChamberMaster//Event Calendar 2.0//EN
METHOD:PUBLISH
X-PUBLISHED-TTL:P3D
REFRESH-INTERVAL:P3D
CALSCALE:GREGORIAN
BEGIN:VEVENT
DTSTART:20230727T230000Z
DTEND:20230728T010000Z
X-MICROSOFT-CDO-ALLDAYEVENT:FALSE
SUMMARY:Big Wes Turner's Trio at Vintage Brewing
DESCRIPTION:Come join us at Vintage Brewing Co\, for live music\, Food\, and Drinks!
X-ALT-DESC;FMTTYPE=text/html:Come join us at Vintage Brewing Co\, for live music\, Food\, and Drinks!
LOCATION:Vintage Brewing Co. Sauk Prairie 600 Water Street\, Sauk City
UID:e.1184.30897
SEQUENCE:3
DTSTAMP:20260420T102748Z
URL:http://members.saukprairie.com/events/details/big-wes-turner-s-trio-at-vintage-brewing-30897
END:VEVENT

END:VCALENDAR
