BEGIN:VCALENDAR
VERSION:2.0
PRODID:-//ChamberMaster//Event Calendar 2.0//EN
METHOD:PUBLISH
X-PUBLISHED-TTL:P3D
REFRESH-INTERVAL:P3D
CALSCALE:GREGORIAN
BEGIN:VEVENT
DTSTART:20160816T160000Z
DTEND:20160817T000000Z
X-MICROSOFT-CDO-ALLDAYEVENT:FALSE
SUMMARY:Biggest sale of 2016
DESCRIPTION:Come join us for our biggest event of 2016. This is only valid August 16th\n\n	Join for only $19\n	Live indoor bootcamps\n	Complimentary Personal Training Session\n	Discounted Tanning\n	24/7 Access to over 3\,000 Locations\n\nCall 608-643-0777 to make an appointment
X-ALT-DESC;FMTTYPE=text/html:Come join us for our biggest event of 2016. This is only valid August 16th\n<ul>\n	<li>Join for only $19</li>\n	<li>Live indoor bootcamps</li>\n	<li>Complimentary Personal Training Session</li>\n	<li>Discounted Tanning</li>\n	<li>24/7 Access to over 3\,000 Locations</li>\n</ul>\nCall 608-643-0777 to make an appointment
LOCATION:Sauk Prairie Anytime Fitness
UID:e.1184.1490
SEQUENCE:3
DTSTAMP:20260425T210141Z
URL:http://members.saukprairie.com/events/details/biggest-sale-of-2016-08-16-2016-1490
END:VEVENT

END:VCALENDAR
