BEGIN:VCALENDAR
VERSION:2.0
PRODID:-//ChamberMaster//Event Calendar 2.0//EN
METHOD:PUBLISH
X-PUBLISHED-TTL:P3D
REFRESH-INTERVAL:P3D
CALSCALE:GREGORIAN
BEGIN:VEVENT
DTSTART:20190607T150000Z
DTEND:20190607T220000Z
X-MICROSOFT-CDO-ALLDAYEVENT:FALSE
SUMMARY:Bike MS Brat Stand
DESCRIPTION:Brat Stand:\n\n\n\nHot Chicken Sandwich: $3.50\n\nBrat: $3.00\n\nHot Dog: $2.00\n\nSides (chips\, pasta salad\, Au Gratin Potatoes\, Fruit Cup): $1.50\n\nPopcorn: $1.00\n\nStrawberry Shortcake: $3.00\n\nStrawberry Shortcake with ice cream: $4.00\n\nRoot Beer Floats: $2.25\n\nBaked Goods: as marked\n\nWater (8oz): $1.00\n\nSoda & Gatorade: $2.00\n\n\n\nFarm Fresh Eggs Available! $2.50 a dozen
X-ALT-DESC;FMTTYPE=text/html:Brat Stand:<br />\n<br />\nHot Chicken Sandwich: $3.50<br />\nBrat: $3.00<br />\nHot Dog: $2.00<br />\nSides (chips\, pasta salad\, Au Gratin Potatoes\, Fruit Cup): $1.50<br />\nPopcorn: $1.00<br />\nStrawberry Shortcake: $3.00<br />\nStrawberry Shortcake with ice cream: $4.00<br />\nRoot Beer Floats: $2.25<br />\nBaked Goods: as marked<br />\nWater (8oz): $1.00<br />\nSoda &amp\; Gatorade: $2.00<br />\n<br />\nFarm Fresh Eggs Available! $2.50 a dozen
LOCATION:Family Dollar Parking Lot
UID:e.1184.22513
SEQUENCE:3
DTSTAMP:20260423T154336Z
URL:http://members.saukprairie.com/events/details/bike-ms-brat-stand-22513
END:VEVENT

END:VCALENDAR
