BEGIN:VCALENDAR
VERSION:2.0
PRODID:-//ChamberMaster//Event Calendar 2.0//EN
METHOD:PUBLISH
X-PUBLISHED-TTL:P3D
REFRESH-INTERVAL:P3D
CALSCALE:GREGORIAN
BEGIN:VEVENT
DTSTART:20190219T163000Z
DTEND:20190220T053000Z
X-MICROSOFT-CDO-ALLDAYEVENT:FALSE
SUMMARY:Bingo!
DESCRIPTION:Bingo!
X-ALT-DESC;FMTTYPE=text/html:Bingo!
LOCATION:Sauk Prairie Community Center
UID:e.1184.21979
SEQUENCE:3
DTSTAMP:20260423T212834Z
URL:http://members.saukprairie.com/events/details/bingo-21979
END:VEVENT

END:VCALENDAR
