BEGIN:VCALENDAR
VERSION:2.0
PRODID:-//ChamberMaster//Event Calendar 2.0//EN
METHOD:PUBLISH
X-PUBLISHED-TTL:P3D
REFRESH-INTERVAL:P3D
CALSCALE:GREGORIAN
BEGIN:VEVENT
DTSTART:20220419T154500Z
DTEND:20220419T164500Z
X-MICROSOFT-CDO-ALLDAYEVENT:FALSE
SUMMARY:Bingo at the Community Center
DESCRIPTION:Free Bingo at the Community Center! Grab your friends and stop in for a game or two. Prizes for the winners!
X-ALT-DESC;FMTTYPE=text/html:Free Bingo at the Community Center! Grab your friends and stop in for a game or two. Prizes for the winners!
LOCATION:Sauk Prairie Community Center 730 Monroe St\, Sauk City
UID:e.1184.26858
SEQUENCE:3
DTSTAMP:20260421T134838Z
URL:http://members.saukprairie.com/events/details/bingo-at-the-community-center-04-19-2022-26858
END:VEVENT

END:VCALENDAR
