BEGIN:VCALENDAR
VERSION:2.0
PRODID:-//ChamberMaster//Event Calendar 2.0//EN
METHOD:PUBLISH
X-PUBLISHED-TTL:P3D
REFRESH-INTERVAL:P3D
CALSCALE:GREGORIAN
BEGIN:VEVENT
DTSTART:20211221T164500Z
DTEND:20211221T174500Z
X-MICROSOFT-CDO-ALLDAYEVENT:FALSE
SUMMARY:Bingo at the Community Center
DESCRIPTION:Free Bingo at the Community Center! Grab your friends and stop in for a game or two. Prizes for the winners!
X-ALT-DESC;FMTTYPE=text/html:Free Bingo at the Community Center! Grab your friends and stop in for a game or two. Prizes for the winners!
LOCATION:Sauk Prairie Community Center 730 Monroe St\, Sauk City
UID:e.1184.26854
SEQUENCE:3
DTSTAMP:20260421T203006Z
URL:http://members.saukprairie.com/events/details/bingo-at-the-community-center-12-21-2021-26854
END:VEVENT

END:VCALENDAR
