BEGIN:VCALENDAR
VERSION:2.0
PRODID:-//ChamberMaster//Event Calendar 2.0//EN
METHOD:PUBLISH
X-PUBLISHED-TTL:P3D
REFRESH-INTERVAL:P3D
CALSCALE:GREGORIAN
BEGIN:VEVENT
DTSTART;VALUE=DATE:20190110
DTEND;VALUE=DATE:20190111
TRANSP:TRANSPARENT
X-MICROSOFT-CDO-ALLDAYEVENT:TRUE
SUMMARY:Bingo at the Library
DESCRIPTION:Try your luck at our weekly bingo! Join us at the library for an afternoon of community fun. There will be prizes won with every round. Prizes are graciously provided by the Friends of the Sauk City Library.\n\nThis free event is open to the public and we encourage new people to stop by!
X-ALT-DESC;FMTTYPE=text/html:<p>Try your luck at our weekly bingo! Join us at the library for an afternoon of community fun. There will be prizes won with every round. Prizes are graciously provided by the Friends of the Sauk City Library.</p>\n\n<p>This free event is open to the public and we encourage new people to stop by!</p>\n
LOCATION:Sauk City Public Library 515 Water Street\, Sauk City
UID:e.1184.21443
SEQUENCE:3
DTSTAMP:20260423T225944Z
URL:http://members.saukprairie.com/events/details/bingo-at-the-library-01-10-2019-21443
END:VEVENT

END:VCALENDAR
