BEGIN:VCALENDAR
VERSION:2.0
PRODID:-//ChamberMaster//Event Calendar 2.0//EN
METHOD:PUBLISH
X-PUBLISHED-TTL:P3D
REFRESH-INTERVAL:P3D
CALSCALE:GREGORIAN
BEGIN:VEVENT
DTSTART:20170713T190000Z
DTEND:20170713T200000Z
X-MICROSOFT-CDO-ALLDAYEVENT:FALSE
SUMMARY:Bingo at the Library
DESCRIPTION:Try your luck at our weekly bingo! Join us at the library for an afternoon of community fun. There will be prizes won with every round.\n\nThis free event is open to the public and we encourage new people to stop by!
X-ALT-DESC;FMTTYPE=text/html:<p>Try your luck at our weekly bingo! Join us at the library for an afternoon of community fun. There will be prizes won with every round.</p>\n\n<p>This free event is open to the public and we encourage new people to stop by!</p>\n
LOCATION:Sauk City Public Library 515 Water Street Sauk City\, WI 53583 (608) 643-8346
UID:e.1184.11699
SEQUENCE:3
DTSTAMP:20260425T032643Z
URL:http://members.saukprairie.com/events/details/bingo-at-the-library-07-13-2017-11699
END:VEVENT

END:VCALENDAR
