BEGIN:VCALENDAR
VERSION:2.0
PRODID:-//ChamberMaster//Event Calendar 2.0//EN
METHOD:PUBLISH
X-PUBLISHED-TTL:P3D
REFRESH-INTERVAL:P3D
CALSCALE:GREGORIAN
BEGIN:VEVENT
DTSTART:20210819T190000Z
DTEND:20210819T200000Z
X-MICROSOFT-CDO-ALLDAYEVENT:FALSE
SUMMARY:Bingo at the Library
DESCRIPTION:Try your luck at the library's bingo this summer. Join us for an afternoon of community fun and a chance to win from a selection of prizes sponsored by the Friends of the Library. These events are free\, but space is limited. Register for a socially distanced seat by calling 608-643-8346.
X-ALT-DESC;FMTTYPE=text/html:Try your luck at the library&#39\;s bingo this summer. Join us for an afternoon of community fun and a chance to win from a selection of prizes sponsored by the Friends of the Library. These events are free\, but space is limited. Register for a socially distanced seat by calling 608-643-8346.
LOCATION:615 Phillips Blvd. Sauk City\, WI 53583
UID:e.1184.26676
SEQUENCE:3
DTSTAMP:20260422T003446Z
URL:http://members.saukprairie.com/events/details/bingo-at-the-library-08-19-2021-26676
END:VEVENT

END:VCALENDAR
