BEGIN:VCALENDAR
VERSION:2.0
PRODID:-//ChamberMaster//Event Calendar 2.0//EN
METHOD:PUBLISH
X-PUBLISHED-TTL:P3D
REFRESH-INTERVAL:P3D
CALSCALE:GREGORIAN
BEGIN:VEVENT
DTSTART:20220901T190000Z
DTEND:20220901T200000Z
X-MICROSOFT-CDO-ALLDAYEVENT:FALSE
SUMMARY:Bingo at the Library
DESCRIPTION:Try your luck at the library's bingo. Join us for an afternoon of community fun and a chance to win from a selection of prizes sponsored by the Friends of the Library. These events are free.
X-ALT-DESC;FMTTYPE=text/html:Try your luck at the library&#39\;s bingo. Join us for an afternoon of community fun and a chance to win from a selection of prizes sponsored by the Friends of the Library. These events are free.&nbsp\;
LOCATION:615 Phillips Blvd. Sauk City\, WI 53583
UID:e.1184.27992
SEQUENCE:3
DTSTAMP:20260421T061514Z
URL:http://members.saukprairie.com/events/details/bingo-at-the-library-09-01-2022-27992
END:VEVENT

END:VCALENDAR
