BEGIN:VCALENDAR
VERSION:2.0
PRODID:-//ChamberMaster//Event Calendar 2.0//EN
METHOD:PUBLISH
X-PUBLISHED-TTL:P3D
REFRESH-INTERVAL:P3D
CALSCALE:GREGORIAN
BEGIN:VEVENT
DTSTART;VALUE=DATE:20240227
DTEND;VALUE=DATE:20240228
TRANSP:TRANSPARENT
X-MICROSOFT-CDO-ALLDAYEVENT:TRUE
SUMMARY:Bingo is Back!
DESCRIPTION:Bingo is Back! @ Culver Community Park\n\n\n\nFood and drink available for purchase 5-7pm\, family friendly bingo from 6-7:30pm.\n\n\n\nBingo cards are $2 each\, limit 3 per player.
X-ALT-DESC;FMTTYPE=text/html:Bingo is Back! @ Culver Community Park<br />\n<br />\nFood and drink available for purchase 5-7pm\, family friendly bingo from 6-7:30pm.<br />\n<br />\nBingo cards are $2 each\, limit 3 per player.
LOCATION:Culver Community Park
UID:e.1184.31571
SEQUENCE:3
DTSTAMP:20260420T003223Z
URL:http://members.saukprairie.com/events/details/bingo-is-back-31571
END:VEVENT

END:VCALENDAR
