BEGIN:VCALENDAR
VERSION:2.0
PRODID:-//ChamberMaster//Event Calendar 2.0//EN
METHOD:PUBLISH
X-PUBLISHED-TTL:P3D
REFRESH-INTERVAL:P3D
CALSCALE:GREGORIAN
BEGIN:VEVENT
DTSTART:20230520T110000Z
DTEND:20230520T150000Z
X-MICROSOFT-CDO-ALLDAYEVENT:FALSE
SUMMARY:Bird "listening"
DESCRIPTION:Bird "listening" event at Sauk City Riverfront Park between 6 am and 10 am. Bring your chair with you\, binoculars if you like\, your own water bottle. Rain or shine\, we will only cancel if we can't safely use our mobile devices OR severe weather conditions (please stop asking for snow!).
X-ALT-DESC;FMTTYPE=text/html:Bird &quot\;listening&quot\; event at Sauk City Riverfront Park between 6 am and 10 am. Bring your chair with you\, binoculars if you like\, your own water bottle. Rain or&nbsp\;shine\, we will only cancel if we can&#39\;t safely use our mobile devices OR severe weather conditions (please stop asking for snow!).
LOCATION:Sauk City River Front Park
UID:e.1184.30764
SEQUENCE:3
DTSTAMP:20260420T143739Z
URL:http://members.saukprairie.com/events/details/bird-listening-30764
END:VEVENT

END:VCALENDAR
