BEGIN:VCALENDAR
VERSION:2.0
PRODID:-//ChamberMaster//Event Calendar 2.0//EN
METHOD:PUBLISH
X-PUBLISHED-TTL:P3D
REFRESH-INTERVAL:P3D
CALSCALE:GREGORIAN
BEGIN:VEVENT
DTSTART;VALUE=DATE:20161010
DTEND;VALUE=DATE:20161011
TRANSP:TRANSPARENT
X-MICROSOFT-CDO-ALLDAYEVENT:TRUE
SUMMARY:Birdies & Brews
DESCRIPTION:List of brewers:\n\nHillsboro Brewing Co\n\nThe Vintage Brewing Co\n\nOctopi Brewing\n\nSand Creek Brewing\n\nFurthermore Brewing\n\nPort Huron Brewing Co\n\n \n\nCost per golfer: $90\n\n \n\nDate: 10/10/2016\n\nTime: 1:00 pm tee off\n\nPlace: Lake Wisconsin Country Club\n\n \n\nFood: Burgers\, brats\, chips to follow. \n\n\n\nSign up today! - http://signup.com/go/NmWSpS
X-ALT-DESC;FMTTYPE=text/html:<strong><span style="font-family:tahoma\,sans-serif\;"><span style="font-size:10.0pt\;">List of brewers:</span></span></strong><br />\n<span style="font-family:tahoma\,sans-serif\;"><span style="font-size:10.0pt\;">Hillsboro Brewing Co</span></span><br />\n<span style="font-family:tahoma\,sans-serif\;"><span style="font-size:10.0pt\;">The Vintage Brewing Co</span></span><br />\n<span style="font-family:tahoma\,sans-serif\;"><span style="font-size:10.0pt\;">Octopi Brewing</span></span><br />\n<span style="font-family:tahoma\,sans-serif\;"><span style="font-size:10.0pt\;">Sand Creek Brewing</span></span><br />\n<span style="font-family:tahoma\,sans-serif\;"><span style="font-size:10.0pt\;">Furthermore Brewing<br />\nPort Huron Brewing Co</span></span><br />\n&nbsp\;<br />\n<strong><span style="font-family:tahoma\,sans-serif\;"><span style="font-size:10.0pt\;">Cost per golfer:</span></span></strong>&nbsp\;<span style="font-family:tahoma\,sans-serif\;"><span style="font-size:10.0pt\;">$90</span></span><br />\n&nbsp\;<br />\n<strong><span style="font-family:tahoma\,sans-serif\;"><span style="font-size:10.0pt\;">Date:</span></span></strong>&nbsp\;<span style="font-family:tahoma\,sans-serif\;"><span style="font-size:10.0pt\;">10/10/2016</span></span><br />\n<strong><span style="font-family:tahoma\,sans-serif\;"><span style="font-size:10.0pt\;">Time:</span></span></strong>&nbsp\;<span style="font-family:tahoma\,sans-serif\;"><span style="font-size:10.0pt\;">1:00 pm tee off</span></span><br />\n<strong><span style="font-family:tahoma\,sans-serif\;"><span style="font-size:10.0pt\;">Place:</span></span></strong>&nbsp\;<span style="font-family:tahoma\,sans-serif\;"><span style="font-size:10.0pt\;">Lake Wisconsin Country Club</span></span><br />\n&nbsp\;<br />\n<strong><span style="font-family:tahoma\,sans-serif\;"><span style="font-size:10.0pt\;">Food:</span></span></strong>&nbsp\;<span style="font-family:tahoma\,sans-serif\;"><span style="font-size:10.0pt\;">Burgers\, brats\, chips to follow.&nbsp\;<br />\n<br />\n<strong>Sign up today!</strong> -&nbsp\;</span></span><a href="http://signup.com/go/NmWSpS">http://signup.com/go/NmWSpS&nbsp\;</a>
LOCATION:Lake Wisconsin Country Club
UID:e.1184.8829
SEQUENCE:3
DTSTAMP:20260425T173829Z
URL:http://members.saukprairie.com/events/details/birdies-brews-10-10-2016-8829
END:VEVENT

END:VCALENDAR
