BEGIN:VCALENDAR
VERSION:2.0
PRODID:-//ChamberMaster//Event Calendar 2.0//EN
METHOD:PUBLISH
X-PUBLISHED-TTL:P3D
REFRESH-INTERVAL:P3D
CALSCALE:GREGORIAN
BEGIN:VEVENT
DTSTART:20191011T170000Z
DTEND:20191011T220000Z
X-MICROSOFT-CDO-ALLDAYEVENT:FALSE
SUMMARY:Birdies & Brews
DESCRIPTION:Come join us for a round of golf on Friday\, October 11th! There will be beer tastings throughout the course! This event is open to the public (21 and up). All profits will go to the Sauk Prairie Area Chamber of Commerce to help fund their programming. \n\n\n\nClick here for the form!\n\nList of brewers:\n\nCentral Waters Brewing Co.\n\nHillsboro Brewing Co.\n\nPort Huron Brewing Co.\n\nThe Lone Girl Brewing Co.\n\nVintage Brewing Co.\n\n\n\nCost per golfer: $80
X-ALT-DESC;FMTTYPE=text/html:<div data-block="true" data-editor="eaij2" data-offset-key="5m3mv-0-0" style="font-family: Helvetica\, Arial\, sans-serif\; color: rgb(28\, 30\, 33)\; font-size: 12px\; white-space: pre-wrap\;">\n<div class="_1mf _1mj" data-offset-key="5m3mv-0-0" style="position: relative\; direction: ltr\; font-family: inherit\;"><span style="font-size:14px\;"><span style="font-family:arial\;"><span data-offset-key="5m3mv-0-0">Come join us for a round of golf on Friday\, October 11th! There will be beer tastings throughout the course! This event is open to the public (21 and up). All profits will go to the Sauk Prairie Area Chamber of Commerce to help fund their programming. </span><br />\n<br />\n<a href="https://chambermaster.blob.core.windows.net/userfiles/UserFiles/chambers/1184/File/BirdiesBrewsForm3.pdf">Click here for the form!</a></span></span></div>\n\n<p class="_1mf _1mj" data-offset-key="5m3mv-0-0" style="position: relative\; direction: ltr\; font-family: inherit\;"><span style="font-size:14px\;"><span style="font-family:arial\;"><span data-offset-key="eatb3-0-0">List of brewers:</span><br />\n<span data-offset-key="9n4fa-0-0">Central Waters Brewing Co.</span><br />\n<span data-offset-key="4639o-0-0">Hillsboro Brewing Co.</span><br />\n<span data-offset-key="36chn-0-0">Port Huron Brewing Co.</span><br />\n<span data-offset-key="8pf0r-0-0">The Lone Girl Brewing Co.</span><br />\n<span data-offset-key="933ss-0-0">Vintage Brewing Co.</span></span></span></p>\n</div>\n\n<div data-block="true" data-editor="eaij2" data-offset-key="ake5l-0-0" style="font-family: Helvetica\, Arial\, sans-serif\; color: rgb(28\, 30\, 33)\; font-size: 12px\; white-space: pre-wrap\;">\n<div class="_1mf _1mj" data-offset-key="ake5l-0-0" style="position: relative\; direction: ltr\; font-family: inherit\;"><span style="font-size:14px\;"><span style="font-family:arial\;"><span data-offset-key="ake5l-0-0">Cost per golfer: $80</span></span></span></div>\n</div>\n
LOCATION:Lake Wisconsin Country Club
UID:e.1184.21526
SEQUENCE:3
DTSTAMP:20260423T095212Z
URL:http://members.saukprairie.com/events/details/birdies-brews-21526
END:VEVENT

END:VCALENDAR
