BEGIN:VCALENDAR
VERSION:2.0
PRODID:-//ChamberMaster//Event Calendar 2.0//EN
METHOD:PUBLISH
X-PUBLISHED-TTL:P3D
REFRESH-INTERVAL:P3D
CALSCALE:GREGORIAN
BEGIN:VEVENT
DTSTART:20201002T170000Z
DTEND:20201002T220000Z
X-MICROSOFT-CDO-ALLDAYEVENT:FALSE
SUMMARY:Birdies & Brews
DESCRIPTION:Come join us for a round of golf on Friday\, October 2nd! There will be beer tastings throughout the course! This event is open to the public (21 and up). All profits will go to the Sauk Prairie Area Chamber of Commerce to help fund their programming.\n\n\n\nClick here to sign up today! (Please fill out the email portion so we can contact you if you win a raffle)\n\n\n\nNew for 2020:\n\n	Boxed Meal will be provided during your course of play spread out on 3 holes.\n	Raffle will be done online\, Monday morning the winners will be posted here & on the events Facebook Page\n	Once your round of golf is over\, please drop off your scorecard\n\n\n\nList of Brewers:\n\n\n	Central Waters Brewing Co.\n	Hillsboro Brewing Co.\n	The Lone Girl Brewing Co.\n	Vintage Brewing Co.\n\n\n\nCost per golfer: $90
X-ALT-DESC;FMTTYPE=text/html:<div data-block="true" data-editor="eaij2" data-offset-key="5m3mv-0-0" style="font-family: Helvetica\, Arial\, sans-serif\; color: rgb(28\, 30\, 33)\; white-space: pre-wrap\;">\n<div class="_1mf _1mj" data-offset-key="5m3mv-0-0" style="font-size: 12px\; position: relative\; direction: ltr\; font-family: inherit\;"><span style="font-size:14px\;"><span style="font-family:arial\;"><span data-offset-key="5m3mv-0-0">Come join us for a round of golf on Friday\, October 2nd! There will be beer tastings throughout the course! This event is open to the public (21 and up). All profits will go to the Sauk Prairie Area Chamber of Commerce to help fund their programming.<br />\n<br />\n<a href="https://chambermaster.blob.core.windows.net/userfiles/UserFiles/chambers/1184/File/BirdiesBrewsForm4.pdf">Click here to sign up today!</a> (Please fill out the email portion so we can contact you if you win a raffle)</span></span><br />\n<br />\n<u><strong>New for 2020:</strong></u></span>\n<ul>\n	<li><span style="color: rgb(28\, 30\, 33)\; font-family: arial\; font-size: 14px\; white-space: pre-wrap\;">Boxed Meal will be provided during your course of play spread out on 3 holes</span><span style="font-size: 14px\;">.</span></li>\n	<li><span style="color: rgb(28\, 30\, 33)\; font-family: Helvetica\, Arial\, sans-serif\; white-space: pre-wrap\; font-size: 14px\;"><span style="font-family: arial\;">Raffle will be done online\, Monday morning the winners will be posted here &amp\; on the events Facebook Page</span></span></li>\n	<li><span style="font-size:14px\;"><span style="font-family:arial\;">Once your round of golf is over\, please drop off your scorecard</span></span></li>\n</ul>\n</div>\n</div>\n<u><strong><span style="font-size:14px\;">List of Brewers:</span></strong></u>\n\n<ul>\n	<li><span style="font-size:14px\;">Central Waters Brewing Co.</span></li>\n	<li><span style="font-size:14px\;">Hillsboro Brewing Co.</span></li>\n	<li><span style="font-size:14px\;">The Lone Girl Brewing Co.</span></li>\n	<li><span style="font-size:14px\;">Vintage Brewing Co.</span></li>\n</ul>\n<br />\n<strong><span style="font-size:14px\;">Cost per golfer: $90</span></strong>
LOCATION:Lake Wisconsin Country Club
UID:e.1184.23708
SEQUENCE:3
DTSTAMP:20260422T165228Z
URL:http://members.saukprairie.com/events/details/birdies-brews-23708
END:VEVENT

END:VCALENDAR
