BEGIN:VCALENDAR
VERSION:2.0
PRODID:-//ChamberMaster//Event Calendar 2.0//EN
METHOD:PUBLISH
X-PUBLISHED-TTL:P3D
REFRESH-INTERVAL:P3D
CALSCALE:GREGORIAN
BEGIN:VEVENT
DTSTART:20211001T170000Z
DTEND:20211001T220000Z
X-MICROSOFT-CDO-ALLDAYEVENT:FALSE
SUMMARY:Birdies & Brews
DESCRIPTION:Come join us for a round of golf on Friday\, October 1st! There will be beer tastings from regional breweries throughout the course! This event is open to the public (21 and up). All profits will go to the Sauk Prairie Area Chamber of Commerce to help fund their programming.\n\n\n\nClick here to sign up today! (Please fill out the email portion so we can contact you if you win a raffle)\n\n \n\n	Boxed Meal will be provided during your course of play spread out on 3 holes.\n	Raffle will be done online\, Monday morning the winners will be posted here & on the events Facebook Page\n	Once your round of golf is over\, please drop off your scorecard\n\n\n\nList of Brewers: \n\n\n	Central Waters Brewing Co.\n	Hop Haus Brewing Co.\n	Hillsboro Brewing Co.\n	Karben4Brewing\n	Lake Louie Brewing Co.\n	Vintage Brewing Co.\n	Working Draft Beer Co.\n	Wisconsin Brewing Co.  \n\nCost per golfer: $90
X-ALT-DESC;FMTTYPE=text/html:<div data-block="true" data-editor="eaij2" data-offset-key="5m3mv-0-0" style="font-family: Helvetica\, Arial\, sans-serif\; color: rgb(28\, 30\, 33)\; white-space: pre-wrap\;">\n<div class="_1mf _1mj" data-offset-key="5m3mv-0-0" style="font-size: 12px\; position: relative\; direction: ltr\; font-family: inherit\;"><span style="font-size:14px\;"><span style="font-family:arial\;"><span data-offset-key="5m3mv-0-0">Come join us for a round of golf on Friday\, October 1st! There will be beer tastings from regional breweries throughout the course! This event is open to the public (21 and up). All profits will go to the Sauk Prairie Area Chamber of Commerce to help fund their programming.<br />\n<br />\nClick <a href="https://chambermaster.blob.core.windows.net/userfiles/UserFiles/chambers/1184/File/BirdiesBrewsForm4.pdf">here</a> to sign up today! (Please fill out the email portion so we can contact you if you win a raffle)</span></span></span><br />\n&nbsp\;\n<ul>\n	<li><span style="color: rgb(28\, 30\, 33)\; font-family: arial\; font-size: 14px\; white-space: pre-wrap\;">Boxed Meal will be provided during your course of play spread out on 3 holes</span><span style="font-size: 14px\;">.</span></li>\n	<li><span style="color: rgb(28\, 30\, 33)\; font-family: Helvetica\, Arial\, sans-serif\; white-space: pre-wrap\; font-size: 14px\;"><span style="font-family: arial\;">Raffle will be done online\, Monday morning the winners will be posted here &amp\; on the events Facebook Page</span></span></li>\n	<li><span style="font-size:14px\;"><span style="font-family:arial\;">Once your round of golf is over\, please drop off your scorecard</span></span></li>\n</ul>\n</div>\n</div>\n<u><strong><span style="font-size:14px\;">List of Brewers:&nbsp\;</span></strong></u>\n\n<ul>\n	<li>Central Waters Brewing Co.</li>\n	<li>Hop Haus Brewing Co.</li>\n	<li>Hillsboro Brewing Co.</li>\n	<li>Karben4Brewing</li>\n	<li>Lake Louie Brewing Co.</li>\n	<li>Vintage Brewing Co.</li>\n	<li>Working Draft Beer Co.</li>\n	<li>Wisconsin Brewing Co.&nbsp\;&nbsp\;</li>\n</ul>\n<strong><span style="font-size:14px\;">Cost per golfer: $90</span></strong>
LOCATION:Devil's Head Resort S6330 Bluff Road Merrimac\, WI 53561
UID:e.1184.26437
SEQUENCE:3
DTSTAMP:20260421T215018Z
URL:http://members.saukprairie.com/events/details/birdies-brews-26437
END:VEVENT

END:VCALENDAR
