BEGIN:VCALENDAR
VERSION:2.0
PRODID:-//ChamberMaster//Event Calendar 2.0//EN
METHOD:PUBLISH
X-PUBLISHED-TTL:P3D
REFRESH-INTERVAL:P3D
CALSCALE:GREGORIAN
BEGIN:VEVENT
DTSTART:20221007T170000Z
DTEND:20221007T220000Z
X-MICROSOFT-CDO-ALLDAYEVENT:FALSE
SUMMARY:Birdies & Brews
DESCRIPTION:Come join us for a round of golf on Friday\, October 7th! There will be beer tastings from regional breweries throughout the course! This event is open to the public (21 and up). All profits will go to the Sauk Prairie Area Chamber of Commerce to help fund their programming.\n\n\n\nClick here to sign up today! (Please fill out the email portion so we can contact you if you win a raffle)\n\n	Boxed Meal will be provided.\n	Raffle will be done online\, Monday morning the winners will be posted on the Chamber's Facebook Page\n	Once your round of golf is over\, please drop off your scorecard\n\n\n\nList of Brewers: \n\n\n	AL Ringling Brewing Co.\n	Central Waters Brewing Co.\n	Hillsboro Brewing Co.\n	Indeed Brewing Co.\n	Karben4Brewing\n	Lake Louie Brewing Co.\n	Vintage Brewing Co.\n	Wisconsin Brewing Co.  \n\nCost per golfer: $90
X-ALT-DESC;FMTTYPE=text/html:<div data-block="true" data-editor="eaij2" data-offset-key="5m3mv-0-0" style="font-family: Helvetica\, Arial\, sans-serif\; color: rgb(28\, 30\, 33)\; white-space: pre-wrap\;">\n<div class="_1mf _1mj" data-offset-key="5m3mv-0-0" style="font-size: 12px\; position: relative\; direction: ltr\; font-family: inherit\;"><span data-offset-key="5m3mv-0-0">Come join us for a round of golf on Friday\, October 7th! There will be beer tastings from regional breweries throughout the course! This event is open to the public (21 and up). All profits will go to the Sauk Prairie Area Chamber of Commerce to help fund their programming.<br />\n<br />\nClick <a href="https://chambermaster.blob.core.windows.net/userfiles/UserFiles/chambers/1184/File/BirdiesBrewsForm5.pdf">here</a> to sign up today! (Please fill out the email portion so we can contact you if you win a raffle)</span>\n<ul>\n	<li><span style="color: rgb(28\, 30\, 33)\; white-space: pre-wrap\;">Boxed Meal will be provided</span>.</li>\n	<li><span style="color: rgb(28\, 30\, 33)\; font-family: Helvetica\, Arial\, sans-serif\; white-space: pre-wrap\;">Raffle will be done online\, Monday morning the winners will be posted on the Chamber&#39\;s Facebook Page</span></li>\n	<li>Once your round of golf is over\, please drop off your scorecard</li>\n</ul>\n</div>\n</div>\n<u><strong>List of Brewers:&nbsp\;</strong></u>\n\n<ul>\n	<li>AL Ringling Brewing Co.</li>\n	<li>Central Waters Brewing Co.</li>\n	<li>Hillsboro Brewing Co.</li>\n	<li>Indeed Brewing Co.</li>\n	<li>Karben4Brewing</li>\n	<li>Lake Louie Brewing Co.</li>\n	<li>Vintage Brewing Co.</li>\n	<li>Wisconsin Brewing Co.&nbsp\;&nbsp\;</li>\n</ul>\n<strong>Cost per golfer: $90</strong>
LOCATION:Devil's Head Resort S6330 Bluff Road Merrimac\, WI 53561
UID:e.1184.27028
SEQUENCE:3
DTSTAMP:20260421T045205Z
URL:http://members.saukprairie.com/events/details/birdies-brews-27028
END:VEVENT

END:VCALENDAR
