BEGIN:VCALENDAR
VERSION:2.0
PRODID:-//ChamberMaster//Event Calendar 2.0//EN
METHOD:PUBLISH
X-PUBLISHED-TTL:P3D
REFRESH-INTERVAL:P3D
CALSCALE:GREGORIAN
BEGIN:VEVENT
DTSTART;VALUE=DATE:20171013
DTEND;VALUE=DATE:20171014
TRANSP:TRANSPARENT
X-MICROSOFT-CDO-ALLDAYEVENT:TRUE
SUMMARY:Birdies & Brews
DESCRIPTION:List of brewers:\n\nHillsboro Brewing Co.\n\nThe Vintage Brewing Co.\n\nSand Creek Brewing\n\nCentral Waters Brewing Co.\n\nPort Huron Brewing Co.\n\n \n\nCost per golfer: $75\n\n \n\nDate: 10/13/2017\n\nTime: 12:00 pm tee off\n\nPlace: Lake Wisconsin Country Club\n\n \n\nFood: Burgers\, brats\, chips to follow. \n\n\n\nSign up today! - Fill out this form to register or call/email Stephanie at the Sauk Prairie Chamber - 608.643.4168/spacc@saukprairie.com. Check payable to SPACC and mail to 109 Phillips Blvd.\, Sauk City WI by October 2nd.
X-ALT-DESC;FMTTYPE=text/html:<strong><span style="font-family: tahoma\, sans-serif\;"><span style="font-size: 10pt\;">List of brewers:</span></span></strong><br />\n<span style="font-family: tahoma\, sans-serif\;"><span style="font-size: 10pt\;">Hillsboro Brewing Co.</span></span><br />\n<span style="font-family: tahoma\, sans-serif\;"><span style="font-size: 10pt\;">The Vintage Brewing Co.</span></span><br />\n<span style="font-family: tahoma\, sans-serif\;"><span style="font-size: 10pt\;">Sand Creek Brewing<br />\nCentral Waters Brewing Co.</span></span><br />\n<span style="font-family: tahoma\, sans-serif\;"><span style="font-size: 10pt\;">Port Huron Brewing Co.</span></span><br />\n&nbsp\;<br />\n<strong><span style="font-family: tahoma\, sans-serif\;"><span style="font-size: 10pt\;">Cost per golfer:</span></span></strong>&nbsp\;<span style="font-family: tahoma\, sans-serif\;"><span style="font-size: 10pt\;">$75</span></span><br />\n&nbsp\;<br />\n<strong><span style="font-family: tahoma\, sans-serif\;"><span style="font-size: 10pt\;">Date:</span></span></strong>&nbsp\;<span style="font-family: tahoma\, sans-serif\;"><span style="font-size: 10pt\;">10/13/2017</span></span><br />\n<strong><span style="font-family: tahoma\, sans-serif\;"><span style="font-size: 10pt\;">Time:</span></span></strong>&nbsp\;12<span style="font-family: tahoma\, sans-serif\;"><span style="font-size: 10pt\;">:00 pm tee off</span></span><br />\n<strong><span style="font-family: tahoma\, sans-serif\;"><span style="font-size: 10pt\;">Place:</span></span></strong>&nbsp\;<span style="font-family: tahoma\, sans-serif\;"><span style="font-size: 10pt\;">Lake Wisconsin Country Club</span></span><br />\n&nbsp\;<br />\n<strong><span style="font-family: tahoma\, sans-serif\;"><span style="font-size: 10pt\;">Food:</span></span></strong>&nbsp\;<span style="font-family: tahoma\, sans-serif\;"><span style="font-size: 10pt\;">Burgers\, brats\, chips to follow.&nbsp\;<br />\n<br />\n<strong>Sign up today!</strong>&nbsp\;- <a href="https://chambermaster.blob.core.windows.net/userfiles/UserFiles/chambers/1184/File/BirdiesBrewsForm.pdf">Fill out this form</a> to register&nbsp\;</span></span>or call/email Stephanie at the Sauk Prairie Chamber - 608.643.4168/spacc@saukprairie.com. Check payable to SPACC and mail to&nbsp\;109 Phillips Blvd.\, Sauk City WI by October 2nd.
LOCATION:Lake Wisconsin Country Club
UID:e.1184.9766
SEQUENCE:3
DTSTAMP:20260424T221757Z
URL:http://members.saukprairie.com/events/details/birdies-brews-9766
END:VEVENT

END:VCALENDAR
