BEGIN:VCALENDAR
VERSION:2.0
PRODID:-//ChamberMaster//Event Calendar 2.0//EN
METHOD:PUBLISH
X-PUBLISHED-TTL:P3D
REFRESH-INTERVAL:P3D
CALSCALE:GREGORIAN
BEGIN:VEVENT
DTSTART:20210113T003000Z
DTEND:20210113T013000Z
X-MICROSOFT-CDO-ALLDAYEVENT:FALSE
SUMMARY:Bizarre History of Wisconsin
DESCRIPTION:Join us from the comfort of home for a Zoom program presented by lecturer\, and paranormal researcher Chad Lewis for an exploration of Wisconsin's Bizarre History. Email the library at info@saukcitylibrary.org for a link to the program.
X-ALT-DESC;FMTTYPE=text/html:Join us from the comfort of home for a Zoom program presented by lecturer\, and paranormal researcher Chad Lewis for an exploration of Wisconsin&#39\;s Bizarre History. Email the library at info@saukcitylibrary.org for a link to the program.
LOCATION:Online
UID:e.1184.26145
SEQUENCE:3
DTSTAMP:20260422T105300Z
URL:http://members.saukprairie.com/events/details/bizarre-history-of-wisconsin-26145
END:VEVENT

END:VCALENDAR
