BEGIN:VCALENDAR
VERSION:2.0
PRODID:-//ChamberMaster//Event Calendar 2.0//EN
METHOD:PUBLISH
X-PUBLISHED-TTL:P3D
REFRESH-INTERVAL:P3D
CALSCALE:GREGORIAN
BEGIN:VEVENT
DTSTART:20241001T233000Z
DTEND:20241002T023000Z
X-MICROSOFT-CDO-ALLDAYEVENT:FALSE
SUMMARY:Bizarre History of Wisconsin
DESCRIPTION:Chad Lewis\, researcher\, author\, and lecturer on topics of the strange and unusual\, returns to the library with a new presentation showcasing over 100 bizarre newspaper stories from Wisconsin that have not been seen in over 100 years. These unbelievable stories were not lost\, they were simply hidden.\n\n\n\nThis program provides a time portal back to the early days of the state when it was filled with strange deaths\, ghosts\, sea serpents\, peculiar people\, medical anomalies\, oddities\, psychic phenomena\, and UFOs This will change the way you view the good ol' days of WI. Sponsored by the Friends of the Ruth Culver Community Library.
X-ALT-DESC;FMTTYPE=text/html:Chad Lewis\, researcher\, author\, and lecturer on topics of the strange and unusual\, returns to the library with a new presentation showcasing over 100 bizarre newspaper stories from Wisconsin that have not been seen in over 100 years. These unbelievable stories were not lost\, they were simply hidden.<br />\n<br />\nThis program provides a time portal back to the early days of the state when it was filled with strange deaths\, ghosts\, sea serpents\, peculiar people\, medical anomalies\, oddities\, psychic phenomena\, and UFOs This will change the way you view the good ol&#39\; days of WI. Sponsored by the Friends of the Ruth Culver Community Library.&nbsp\;
LOCATION:Ruth Culver Community Library - Prairie du Sac
UID:e.1184.33048
SEQUENCE:3
DTSTAMP:20260419T143950Z
URL:http://members.saukprairie.com/events/details/bizarre-history-of-wisconsin-33048
END:VEVENT

END:VCALENDAR
