BEGIN:VCALENDAR
VERSION:2.0
PRODID:-//ChamberMaster//Event Calendar 2.0//EN
METHOD:PUBLISH
X-PUBLISHED-TTL:P3D
REFRESH-INTERVAL:P3D
CALSCALE:GREGORIAN
BEGIN:VEVENT
DTSTART:20191129T130000Z
DTEND:20191130T030000Z
X-MICROSOFT-CDO-ALLDAYEVENT:FALSE
SUMMARY:Black Friday Holiday Season Kick-Off
DESCRIPTION:Kick off the Christmas season in style at our very first in-store Black Friday Shopping Event. \n\n\n\n10% Off savings and Scratch off savings!
X-ALT-DESC;FMTTYPE=text/html:<span style="color: rgb(29\, 33\, 41)\; font-family: Helvetica\, Arial\, sans-serif\; font-size: 14px\; white-space: pre-wrap\;">Kick off the Christmas season in style at our very first in-store Black Friday Shopping Event. </span><br />\n<br />\n10% Off savings and Scratch off savings!&nbsp\;&nbsp\;&nbsp\;&nbsp\;&nbsp\;&nbsp\;&nbsp\;&nbsp\;
LOCATION:LAF Boutique 735 Water St. Sauk City
UID:e.1184.23644
SEQUENCE:3
DTSTAMP:20260423T091433Z
URL:http://members.saukprairie.com/events/details/black-friday-holiday-season-kick-off-23644
END:VEVENT

END:VCALENDAR
