BEGIN:VCALENDAR
VERSION:2.0
PRODID:-//ChamberMaster//Event Calendar 2.0//EN
METHOD:PUBLISH
X-PUBLISHED-TTL:P3D
REFRESH-INTERVAL:P3D
CALSCALE:GREGORIAN
BEGIN:VEVENT
DTSTART:20180919T193000Z
DTEND:20180919T203000Z
X-MICROSOFT-CDO-ALLDAYEVENT:FALSE
SUMMARY:Blindness Awareness
DESCRIPTION:Have you ever wondered how a blind person does things\, like go to the grocery store or watch movies or what kind of jobs they have? Meet Katie at the library Wednesday\, September 19 at 2:30 p.m.  She's all grown up now\, but was once a kid like you! She will show you how she uses a cane\, works with her seeing-eye dog and reads with Braille.  You'll also get to make a Braille bookmark with your name or initials to take home.  Snack included.  This early release event is appropriate for school-age children.  Children 6 and under must be accompanied by an adult. Contact Beth at 643-8318 with questions.
X-ALT-DESC;FMTTYPE=text/html:Have you ever wondered how a blind person does things\, like go to the grocery store or watch movies or what kind of jobs they have? Meet Katie at the library Wednesday\, September 19 at 2:30 p.m.&nbsp\; She&#39\;s all grown up now\, but was once a kid like you! She will show you how she uses a cane\, works with her seeing-eye dog and reads with Braille.&nbsp\; You&#39\;ll also get to make a Braille bookmark with your name or initials to take home.&nbsp\; Snack included.&nbsp\; This early release event is appropriate for school-age children.&nbsp\; Children 6 and under must be accompanied by an adult. Contact Beth at 643-8318 with questions.
LOCATION:Ruth Culver Community Library 540 Water Street\, Prairie du Sac
UID:e.1184.20922
SEQUENCE:3
DTSTAMP:20260424T050634Z
URL:http://members.saukprairie.com/events/details/blindness-awareness-20922
END:VEVENT

END:VCALENDAR
