BEGIN:VCALENDAR
VERSION:2.0
PRODID:-//ChamberMaster//Event Calendar 2.0//EN
METHOD:PUBLISH
X-PUBLISHED-TTL:P3D
REFRESH-INTERVAL:P3D
CALSCALE:GREGORIAN
BEGIN:VEVENT
DTSTART:20190814T140000Z
DTEND:20190814T190000Z
X-MICROSOFT-CDO-ALLDAYEVENT:FALSE
SUMMARY:Blood Drive
DESCRIPTION:Sauk Prairie High School and the American Red Cross are hosting an upcoming blood drive. Please join our lifesaving mission and schedule an appointment today!
X-ALT-DESC;FMTTYPE=text/html:Sauk Prairie High School and the American Red Cross are hosting an upcoming blood drive. Please join our lifesaving mission and schedule an appointment today!
LOCATION:Sauk Prairie High School Rooms 13 & 14 105 9th Street Prairie du Sac\, WI 53578
UID:e.1184.22657
SEQUENCE:3
DTSTAMP:20260423T124312Z
URL:http://members.saukprairie.com/events/details/blood-drive-08-14-2019-22657
END:VEVENT

END:VCALENDAR
