BEGIN:VCALENDAR
VERSION:2.0
PRODID:-//ChamberMaster//Event Calendar 2.0//EN
METHOD:PUBLISH
X-PUBLISHED-TTL:P3D
REFRESH-INTERVAL:P3D
CALSCALE:GREGORIAN
BEGIN:VEVENT
DTSTART:20191129T150000Z
DTEND:20191129T200000Z
X-MICROSOFT-CDO-ALLDAYEVENT:FALSE
SUMMARY:Blood Drive
DESCRIPTION:Help save a life and get a free t-shirt! Friends of Sauk Prairie Healthcare are hosting a blood drive at the Sauk Prairie Hospital Conference Center on Friday\, Nov. 29\, from 9 a.m. to 2 p.m. Between Nov. 27 and Nov. 30 donors receive a free long-sleeve t-shirt while supplies last. Register online\, though walk-ins are always welcome. Learn more at www.redcrossblood.org or make an appointment at 800-RED-CROSS. Save up to 15 minutes when you donate blood using RapidPass! Visit www.redcross.org/RapidPass for more information.
X-ALT-DESC;FMTTYPE=text/html:Help save a life and get a free t-shirt! Friends of Sauk Prairie Healthcare are hosting a blood drive at the Sauk Prairie Hospital Conference Center on Friday\, Nov. 29\, from 9 a.m. to 2 p.m. Between Nov. 27 and Nov. 30 donors receive a free long-sleeve t-shirt while supplies last. Register online\, though walk-ins are always welcome. Learn more at www.redcrossblood.org or make an appointment at 800-RED-CROSS. Save up to 15 minutes when you donate blood using RapidPass! Visit www.redcross.org/RapidPass for more information.
LOCATION:Sauk Prairie Healthcare 260 26th Street Prairie du Sac
UID:e.1184.23642
SEQUENCE:3
DTSTAMP:20260423T095423Z
URL:http://members.saukprairie.com/events/details/blood-drive-11-29-2019-23642
END:VEVENT

END:VCALENDAR
