BEGIN:VCALENDAR
VERSION:2.0
PRODID:-//ChamberMaster//Event Calendar 2.0//EN
METHOD:PUBLISH
X-PUBLISHED-TTL:P3D
REFRESH-INTERVAL:P3D
CALSCALE:GREGORIAN
BEGIN:VEVENT
DTSTART:20191216T180000Z
DTEND:20191216T233000Z
X-MICROSOFT-CDO-ALLDAYEVENT:FALSE
SUMMARY:Blood Drive
DESCRIPTION:Friends of Sauk Prairie Healthcare are partnering with the American Red Cross and Graceway Church for a blood drive on Monday\, Dec. 16\, from noon to 5:30 p.m. Register online or walk-ins are always welcome. For more information visit www.redcrossblood.org.
X-ALT-DESC;FMTTYPE=text/html:Friends of Sauk Prairie Healthcare are partnering with the American Red Cross and Graceway Church for a blood drive on Monday\, Dec. 16\, from noon to 5:30 p.m. Register online or walk-ins are always welcome. For more information visit www.redcrossblood.org.
LOCATION:GraceWay Church 65 13th Street Prairie du Sac\, WI 53578
UID:e.1184.23643
SEQUENCE:3
DTSTAMP:20260423T070352Z
URL:http://members.saukprairie.com/events/details/blood-drive-12-16-2019-23643
END:VEVENT

END:VCALENDAR
