BEGIN:VCALENDAR
VERSION:2.0
PRODID:-//ChamberMaster//Event Calendar 2.0//EN
METHOD:PUBLISH
X-PUBLISHED-TTL:P3D
REFRESH-INTERVAL:P3D
CALSCALE:GREGORIAN
BEGIN:VEVENT
DTSTART:20191127T200000Z
DTEND:20191128T000000Z
X-MICROSOFT-CDO-ALLDAYEVENT:FALSE
SUMMARY:Blood Drive
DESCRIPTION:Thanks for Giving\n\nDonate Blood and help save a life\n\n\n\nPine Glen Senior Living Blood Drive\n\n\n\nAppointments preferred\; walk-ins welcome!\n\n\n\nFor an appointment call 1-800-RED-CROSS (1-800-733-2767) or visit redcrossblood.org\n\n\n\nYou can save up to 15 minutes when you donate blood by using RapidPass! Visit recrossblood.org/RapidPass for more information.
X-ALT-DESC;FMTTYPE=text/html:Thanks for Giving<br />\nDonate Blood and help save a life<br />\n<br />\nPine Glen Senior Living Blood Drive<br />\n<br />\nAppointments preferred\; walk-ins welcome!<br />\n<br />\nFor an appointment call 1-800-RED-CROSS (1-800-733-2767) or visit redcrossblood.org<br />\n<br />\nYou can save up to 15 minutes when you donate blood by using RapidPass! Visit recrossblood.org/RapidPass for more information.<br />\n&nbsp\;
LOCATION:930 Prairie Street Prairie du Sac
UID:e.1184.23717
SEQUENCE:3
DTSTAMP:20260423T095138Z
URL:http://members.saukprairie.com/events/details/blood-drive-23717
END:VEVENT

END:VCALENDAR
