BEGIN:VCALENDAR
VERSION:2.0
PRODID:-//ChamberMaster//Event Calendar 2.0//EN
METHOD:PUBLISH
X-PUBLISHED-TTL:P3D
REFRESH-INTERVAL:P3D
CALSCALE:GREGORIAN
BEGIN:VEVENT
DTSTART:20211228T150000Z
DTEND:20211228T200000Z
X-MICROSOFT-CDO-ALLDAYEVENT:FALSE
SUMMARY:Blood Drive
DESCRIPTION:Mueller Sports Medicine\, Schwarz Insurance and Sauk Prairie Area Chamber of Commerce have teamed up to do an American Red Cross Blood Drive. \n\n\n\nSign Up is required! You can save up to 15 minutes when you donate blood by using RapidPass! Visit redcrossblood.org/RapidPass for more information.
X-ALT-DESC;FMTTYPE=text/html:Mueller Sports Medicine\, Schwarz Insurance and Sauk Prairie Area Chamber of Commerce have teamed up to do an American Red Cross Blood Drive.&nbsp\;<br />\n<br />\nSign Up is required! You can save up to 15 minutes when you donate blood by using RapidPass! Visit redcrossblood.org/RapidPass for more information.
LOCATION:Mueller Sports Medicine\, Manufacturing Room\, One Quench Drive
UID:e.1184.26936
SEQUENCE:3
DTSTAMP:20260421T190326Z
URL:http://members.saukprairie.com/events/details/blood-drive-26936
END:VEVENT

END:VCALENDAR
